Workbook

Sheet About
B3: Compliance tracker
B4: This tool is a compliance tracker which accompanies the good estate management for schools (GEMS) guidance. You should read the guidance on health and safety to understand your roles and responsibilities before using this compliance tool.
B5: This tool aims to provide an example maintenance and testing schedule to support schools in meeting their estate obligations; it is not intended to provide legal advice. This tool covers the health and safety requirements for most schools, although there may be further specific requirements for your buildings. We advise you check that you are following current regulations. Before you start using this tool we recommend that you: - ensure that responsibilities for health and safety related issues are clearly defined and designated - take regular steps such as hazard spotting to identify all health and safety issues, including those not within this tool - take appropriate actions to minimise any avoidable risks - regularly monitor risks and issues, ensuring that the requirements of the law and health and safety executive (HSE) guidance are followed
B7: How to use the compliance tracker
B8: The compliance tracker has three tabs: a tracker, contractor information and a workplan. This tool contains the functionality to store details of health and safety contractors and help you sequence your compliance works.
B10: 1. Contractor information
B11: Enter details of the contractors, suppliers or professional advisers you use for maintenance, inspections or other health and safety activity. This information can then be accessed using the drop down box on the compliance tracker. You can add columns if you want to record other details about the contractor, although these will not show on the tracker.
B13: 2. Compliance tracker
B14: The compliance tracker lists the most common statutory and recommended maintenance and inspection requirements for schools so you can record when activity was last completed and when it is due.
B16: 3. Workplan
B17: The workplan will show a health and safety plan based on the information entered into the tracker. It will show the work that is due within one month, 2 months, 6 months and later, allowing you to schedule your maintenance. Cells will be highlighted in red if work is overdue.

Sheet Contractor information
B1: DfE Compliance Tracker
B2: Document 73
B4: Contractor Information
B5: Complete this table to record all of your contractors and their contact details.
B6: This will feed into your compliance tracker.
B8: Name of Contractor | C8: Service Agreement | D8: Contact Name | E8: Email | F8: Telephone
B9: Please select
B10: E.g. Joe Smith Ltd | C10: E.g. Structural | D10: E.g. Joe Smith | E10: E.g. joe.smith@email.co.uk | F10: E.g. 01234567890

Sheet Tracker
B2: Compliance Tracker
B4: Section | C4: Ref | D4: Area | E4: Requirement | F4: Statutory or Recommended | G4: Frequency | H4: School Owner | I4: Contractor | J4: Contractor Information | K4: Date Last Undertaken | L4: Date Due | M4: Date of Last Certificate
B5: Building structure and fabric | C5: 1 | D5: Structural stability | E5: Periodic inspection | F5: Recommended | G5: Termly | I5: Please select | J5: =IFERROR(_xlfn.CONCAT(INDEX('Contractor information'!$E$10:$E$26,MATCH(Tracker!$I5,'Contractor information'!$B$10:$B$26,0))," or ",INDEX('Contractor information'!$F$10:$F$26,MATCH(Tracker!$I5,'Contractor information'!$B$10:$B$26,0))),"")
B6: Building structure and fabric | C6: 2 | D6: Working at height and fall protection | E6: Periodic inspection | F6: Recommended | G6: Termly | I6: Please select | J6: =IFERROR(_xlfn.CONCAT(INDEX('Contractor information'!$E$10:$E$26,MATCH(Tracker!$I6,'Contractor information'!$B$10:$B$26,0))," or ",INDEX('Contractor information'!$F$10:$F$26,MATCH(Tracker!$I6,'Contractor information'!$B$10:$B$26,0))),"")
B7: Building structure and fabric | C7: 3 | D7: Slips, trips and falls | E7: Periodic inspection | F7: Recommended | G7: Weekly | I7: Please select | J7: =IFERROR(_xlfn.CONCAT(INDEX('Contractor information'!$E$10:$E$26,MATCH(Tracker!$I7,'Contractor information'!$B$10:$B$26,0))," or ",INDEX('Contractor information'!$F$10:$F$26,MATCH(Tracker!$I7,'Contractor information'!$B$10:$B$26,0))),"")
B8: Building structure and fabric | C8: 4 | D8: Glazing | E8: Periodic inspection | F8: Statutory | G8: Weekly | I8: Please select | J8: =IFERROR(_xlfn.CONCAT(INDEX('Contractor information'!$E$10:$E$26,MATCH(Tracker!$I8,'Contractor information'!$B$10:$B$26,0))," or ",INDEX('Contractor information'!$F$10:$F$26,MATCH(Tracker!$I8,'Contractor information'!$B$10:$B$26,0))),"")
B9: Building structure and fabric | C9: 5 | D9: Drainage and sewerage | E9: Periodic inspection | F9: Recommended | G9: Termly | I9: Please select | J9: =IFERROR(_xlfn.CONCAT(INDEX('Contractor information'!$E$10:$E$26,MATCH(Tracker!$I9,'Contractor information'!$B$10:$B$26,0))," or ",INDEX('Contractor information'!$F$10:$F$26,MATCH(Tracker!$I9,'Contractor information'!$B$10:$B$26,0))),"")
B10: Building structure and fabric | C10: 6 | D10: Asbestos | E10: Review of asbestos register and management plan | F10: Statutory | G10: Annual | I10: Please select | J10: =IFERROR(_xlfn.CONCAT(INDEX('Contractor information'!$E$10:$E$26,MATCH(Tracker!$I10,'Contractor information'!$B$10:$B$26,0))," or ",INDEX('Contractor information'!$F$10:$F$26,MATCH(Tracker!$I10,'Contractor information'!$B$10:$B$26,0))),"")
B11: Fire safety | C11: 7 | D11: Alarms | E11: Fire alarm function test | F11: Recommended | G11: Weekly | I11: Please select | J11: =IFERROR(_xlfn.CONCAT(INDEX('Contractor information'!$E$10:$E$26,MATCH(Tracker!$I11,'Contractor information'!$B$10:$B$26,0))," or ",INDEX('Contractor information'!$F$10:$F$26,MATCH(Tracker!$I11,'Contractor information'!$B$10:$B$26,0))),"")
B12: Fire safety | C12: 8 | D12: Alarms | E12: Full inspection and test | F12: Recommended | G12: Quarterly | I12: Please select | J12: =IFERROR(_xlfn.CONCAT(INDEX('Contractor information'!$E$10:$E$26,MATCH(Tracker!$I12,'Contractor information'!$B$10:$B$26,0))," or ",INDEX('Contractor information'!$F$10:$F$26,MATCH(Tracker!$I12,'Contractor information'!$B$10:$B$26,0))),"")
B13: Fire safety | C13: 9 | D13: Alarms | E13: Annual detailed service and Inspection | F13: Statutory | G13: Annual | I13: Please select | J13: =IFERROR(_xlfn.CONCAT(INDEX('Contractor information'!$E$10:$E$26,MATCH(Tracker!$I13,'Contractor information'!$B$10:$B$26,0))," or ",INDEX('Contractor information'!$F$10:$F$26,MATCH(Tracker!$I13,'Contractor information'!$B$10:$B$26,0))),"")
B14: Fire safety | C14: 10 | D14: Fire escape and safety | E14: Fire risk assessment | F14: Recommended | G14: Annual | I14: Please select | J14: =IFERROR(_xlfn.CONCAT(INDEX('Contractor information'!$E$10:$E$26,MATCH(Tracker!$I14,'Contractor information'!$B$10:$B$26,0))," or ",INDEX('Contractor information'!$F$10:$F$26,MATCH(Tracker!$I14,'Contractor information'!$B$10:$B$26,0))),"")
B15: Fire safety | C15: 11 | D15: Fire doors | E15: Periodic inspection | F15: Statutory | G15: Termly | I15: Please select | J15: =IFERROR(_xlfn.CONCAT(INDEX('Contractor information'!$E$10:$E$26,MATCH(Tracker!$I15,'Contractor information'!$B$10:$B$26,0))," or ",INDEX('Contractor information'!$F$10:$F$26,MATCH(Tracker!$I15,'Contractor information'!$B$10:$B$26,0))),"")
B16: Fire safety | C16: 12 | D16: Fire fighting equipment | E16: Fire extinguisher inspection | F16: Statutory | G16: Annual | I16: Please select | J16: =IFERROR(_xlfn.CONCAT(INDEX('Contractor information'!$E$10:$E$26,MATCH(Tracker!$I16,'Contractor information'!$B$10:$B$26,0))," or ",INDEX('Contractor information'!$F$10:$F$26,MATCH(Tracker!$I16,'Contractor information'!$B$10:$B$26,0))),"")
... B49: Other building services and fixed equipment | C49: 45 | D49: Storing hazardous substances | E49: COSHH assessment and review | F49: Recommended | G49: Annual | I49: Please select | J49: =IFERROR(_xlfn.CONCAT(INDEX('Contractor information'!$E$10:$E$26,MATCH(Tracker!$I49,'Contractor information'!$B$10:$B$26,0))," or ",INDEX('Contractor information'!$F$10:$F$26,MATCH(Tracker!$I49,'Contractor information'!$B$10:$B$26,0))),"")

Sheet Workplan
J2: Show overdue | N2: Health and Safety Work Plan
N3: Date
O4: Overdue or Imminent | S4: Coming Up | V4: Next 6 months | Z4: After 6 months
B5: Area | C5: Description | D5: Date | I5: This Month | J5: Next Month | K5: Next 6 Months | L5: After 6 months | N5: Area | O5: Description | P5: Date | R5: Area | S5: Description | T5: Date | V5: Area | W5: Description | X5: Date | Z5: Area | AA5: Description | AB5: Date
A6: 1 | B6: =IF((INDEX(Tracker!$D$5:$D$49,MATCH(Tracker!C5,Workplan!$A$6:$A$50,0)))=0,B5,INDEX(Tracker!$D$5:$D$49,MATCH(Tracker!C5,Workplan!$A$6:$A$50,0))) -> Structural stability | C6: =INDEX(Tracker!$E$5:$E$49,MATCH(Tracker!C5,Workplan!$A$6:$A$50,0)) -> Periodic inspection | D6: =IF(INDEX(Tracker!$L$5:$L$49,MATCH(Tracker!C5,Workplan!$A$6:$A$50,0))=0,"",INDEX(Tracker!$L$5:$L$49,MATCH(Tracker!C5,Workplan!$A$6:$A$50,0))) | E6: =D6<=EDATE(TODAY(),1) -> FALSE | F6: =IF(AND(E6=FALSE,D6<=EDATE(TODAY(),2)),TRUE,FALSE) -> FALSE | G6: =IF(AND(F6=FALSE,E6=FALSE,D6<=EDATE(TODAY(),6)),TRUE,FALSE) -> FALSE | H6: =IF(AND(E6=FALSE,F6=FALSE,G6=FALSE,D6<>""),TRUE,FALSE) -> FALSE | I6: {=IFERROR(INDEX($A$1:$A$94,SMALL(IF($E$1:$E$94,ROW($A$1:$A$94)),ROW(1:1))),"")} | J6: {=IFERROR(INDEX($A$1:$A$94,SMALL(IF($F$1:$F$94,ROW($A$1:$A$94)),ROW(1:1))),"")} | K6: {=IFERROR(INDEX($A$1:$A$94,SMALL(IF($G$1:$G$94,ROW($A$1:$A$94)),ROW(1:1))),"")} | L6: {=IFERROR(INDEX($A$1:$A$94,SMALL(IF($H$1:$H$94,ROW($A$1:$A$94)),ROW(1:1))),"")} | N6: =IFERROR(INDEX($B$6:$B$50,MATCH(I6,$A$6:$A$50,0)),"") | O6: =IFERROR(INDEX($C$6:$C$50,MATCH(I6,$A$6:$A$50,0)),"") | P6: =IFERROR(INDEX($D$6:$D$50,MATCH(I6,$A$6:$A$50,0)),"") | R6: =IFERROR(INDEX($B$6:$B$50,MATCH(J6,$A$6:$A$50,0)),"") | S6: =IFERROR(INDEX($C$6:$C$50,MATCH(J6,$A$6:$A$50,0)),"") | T6: =IFERROR(INDEX($D$6:$D$50,MATCH(J6,$A$6:$A$50,0)),"") | V6: =IFERROR(INDEX($B$6:$B$50,MATCH(K6,$A$6:$A$50,0)),"") | W6: =IFERROR(INDEX($C$6:$C$50,MATCH(K6,$A$6:$A$50,0)),"") | X6: =IFERROR(INDEX($D$6:$D$50,MATCH(K6,$A$6:$A$50,0)),"") | Z6: =IFERROR(INDEX($B$6:$B$50,MATCH(L6,$A$6:$A$50,0)),"") | AA6: =IFERROR(INDEX($C$6:$C$50,MATCH(L6,$A$6:$A$50,0)),"") | AB6: =IFERROR(INDEX($D$6:$D$50,MATCH(L6,$A$6:$A$50,0)),"")
A7: 2 | B7: =IF((INDEX(Tracker!$D$5:$D$49,MATCH(Tracker!C6,Workplan!$A$6:$A$50,0)))=0,B6,INDEX(Tracker!$D$5:$D$49,MATCH(Tracker!C6,Workplan!$A$6:$A$50,0))) -> Working at height and fall protection | C7: =INDEX(Tracker!$E$5:$E$49,MATCH(Tracker!C6,Workplan!$A$6:$A$50,0)) -> Periodic inspection | D7: =IF(INDEX(Tracker!$L$5:$L$49,MATCH(Tracker!C6,Workplan!$A$6:$A$50,0))=0,"",INDEX(Tracker!$L$5:$L$49,MATCH(Tracker!C6,Workplan!$A$6:$A$50,0))) | E7: =D7<=EDATE(TODAY(),1) -> FALSE | F7: =IF(AND(E7=FALSE,D7<=EDATE(TODAY(),2)),TRUE,FALSE) -> FALSE | G7: =IF(AND(F7=FALSE,E7=FALSE,D7<=EDATE(TODAY(),6)),TRUE,FALSE) -> FALSE | H7: =IF(AND(E7=FALSE,F7=FALSE,G7=FALSE,D7<>""),TRUE,FALSE) -> FALSE | I7: {=IFERROR(INDEX($A$1:$A$94,SMALL(IF($E$1:$E$94,ROW($A$1:$A$94)),ROW(2:2))),"")} | J7: {=IFERROR(INDEX($A$1:$A$94,SMALL(IF($F$1:$F$94,ROW($A$1:$A$94)),ROW(2:2))),"")} | K7: {=IFERROR(INDEX($A$1:$A$94,SMALL(IF($G$1:$G$94,ROW($A$1:$A$94)),ROW(2:2))),"")} | L7: {=IFERROR(INDEX($A$1:$A$94,SMALL(IF($H$1:$H$94,ROW($A$1:$A$94)),ROW(2:2))),"")} | N7: =IFERROR(INDEX($B$6:$B$50,MATCH(I7,$A$6:$A$50,0)),"") | O7: =IFERROR(INDEX($C$6:$C$50,MATCH(I7,$A$6:$A$50,0)),"") | P7: =IFERROR(INDEX($D$6:$D$50,MATCH(I7,$A$6:$A$50,0)),"") | R7: =IFERROR(INDEX($B$6:$B$50,MATCH(J7,$A$6:$A$50,0)),"") | S7: =IFERROR(INDEX($C$6:$C$50,MATCH(J7,$A$6:$A$50,0)),"") | T7: =IFERROR(INDEX($D$6:$D$50,MATCH(J7,$A$6:$A$50,0)),"") | V7: =IFERROR(INDEX($B$6:$B$50,MATCH(K7,$A$6:$A$50,0)),"") | W7: =IFERROR(INDEX($C$6:$C$50,MATCH(K7,$A$6:$A$50,0)),"") | X7: =IFERROR(INDEX($D$6:$D$50,MATCH(K7,$A$6:$A$50,0)),"") | Z7: =IFERROR(INDEX($B$6:$B$50,MATCH(L7,$A$6:$A$50,0)),"") | AA7: =IFERROR(INDEX($C$6:$C$50,MATCH(L7,$A$6:$A$50,0)),"") | AB7: =IFERROR(INDEX($D$6:$D$50,MATCH(L7,$A$6:$A$50,0)),"")
A8: 3 | B8: =IF((INDEX(Tracker!$D$5:$D$49,MATCH(Tracker!C7,Workplan!$A$6:$A$50,0)))=0,B7,INDEX(Tracker!$D$5:$D$49,MATCH(Tracker!C7,Workplan!$A$6:$A$50,0))) -> Slips, trips and falls | C8: =INDEX(Tracker!$E$5:$E$49,MATCH(Tracker!C7,Workplan!$A$6:$A$50,0)) -> Periodic inspection | D8: =IF(INDEX(Tracker!$L$5:$L$49,MATCH(Tracker!C7,Workplan!$A$6:$A$50,0))=0,"",INDEX(Tracker!$L$5:$L$49,MATCH(Tracker!C7,Workplan!$A$6:$A$50,0))) | E8: =D8<=EDATE(TODAY(),1) -> FALSE | F8: =IF(AND(E8=FALSE,D8<=EDATE(TODAY(),2)),TRUE,FALSE) -> FALSE | G8: =IF(AND(F8=FALSE,E8=FALSE,D8<=EDATE(TODAY(),6)),TRUE,FALSE) -> FALSE | H8: =IF(AND(E8=FALSE,F8=FALSE,G8=FALSE,D8<>""),TRUE,FALSE) -> FALSE | I8: {=IFERROR(INDEX($A$1:$A$94,SMALL(IF($E$1:$E$94,ROW($A$1:$A$94)),ROW(#REF!))),"")} | J8: {=IFERROR(INDEX($A$1:$A$94,SMALL(IF($F$1:$F$94,ROW($A$1:$A$94)),ROW(#REF!))),"")} | K8: {=IFERROR(INDEX($A$1:$A$94,SMALL(IF($G$1:$G$94,ROW($A$1:$A$94)),ROW(#REF!))),"")} | L8: {=IFERROR(INDEX($A$1:$A$94,SMALL(IF($H$1:$H$94,ROW($A$1:$A$94)),ROW(#REF!))),"")} | N8: =IFERROR(INDEX($B$6:$B$50,MATCH(I8,$A$6:$A$50,0)),"") | O8: =IFERROR(INDEX($C$6:$C$50,MATCH(I8,$A$6:$A$50,0)),"") | P8: =IFERROR(INDEX($D$6:$D$50,MATCH(I8,$A$6:$A$50,0)),"") | R8: =IFERROR(INDEX($B$6:$B$50,MATCH(J8,$A$6:$A$50,0)),"") | S8: =IFERROR(INDEX($C$6:$C$50,MATCH(J8,$A$6:$A$50,0)),"") | T8: =IFERROR(INDEX($D$6:$D$50,MATCH(J8,$A$6:$A$50,0)),"") | V8: =IFERROR(INDEX($B$6:$B$50,MATCH(K8,$A$6:$A$50,0)),"") | W8: =IFERROR(INDEX($C$6:$C$50,MATCH(K8,$A$6:$A$50,0)),"") | X8: =IFERROR(INDEX($D$6:$D$50,MATCH(K8,$A$6:$A$50,0)),"") | Z8: =IFERROR(INDEX($B$6:$B$50,MATCH(L8,$A$6:$A$50,0)),"") | AA8: =IFERROR(INDEX($C$6:$C$50,MATCH(L8,$A$6:$A$50,0)),"") | AB8: =IFERROR(INDEX($D$6:$D$50,MATCH(L8,$A$6:$A$50,0)),"")
A9: 4 | B9: =IF((INDEX(Tracker!$D$5:$D$49,MATCH(Tracker!C8,Workplan!$A$6:$A$50,0)))=0,B8,INDEX(Tracker!$D$5:$D$49,MATCH(Tracker!C8,Workplan!$A$6:$A$50,0))) -> Glazing | C9: =INDEX(Tracker!$E$5:$E$49,MATCH(Tracker!C8,Workplan!$A$6:$A$50,0)) -> Periodic inspection | D9: =IF(INDEX(Tracker!$L$5:$L$49,MATCH(Tracker!C8,Workplan!$A$6:$A$50,0))=0,"",INDEX(Tracker!$L$5:$L$49,MATCH(Tracker!C8,Workplan!$A$6:$A$50,0))) | E9: =D9<=EDATE(TODAY(),1) -> FALSE | F9: =IF(AND(E9=FALSE,D9<=EDATE(TODAY(),2)),TRUE,FALSE) -> FALSE | G9: =IF(AND(F9=FALSE,E9=FALSE,D9<=EDATE(TODAY(),6)),TRUE,FALSE) -> FALSE | H9: =IF(AND(E9=FALSE,F9=FALSE,G9=FALSE,D9<>""),TRUE,FALSE) -> FALSE | I9: {=IFERROR(INDEX($A$1:$A$94,SMALL(IF($E$1:$E$94,ROW($A$1:$A$94)),ROW(4:4))),"")} | J9: {=IFERROR(INDEX($A$1:$A$94,SMALL(IF($F$1:$F$94,ROW($A$1:$A$94)),ROW(4:4))),"")} | K9: {=IFERROR(INDEX($A$1:$A$94,SMALL(IF($G$1:$G$94,ROW($A$1:$A$94)),ROW(4:4))),"")} | L9: {=IFERROR(INDEX($A$1:$A$94,SMALL(IF($H$1:$H$94,ROW($A$1:$A$94)),ROW(4:4))),"")} | N9: =IFERROR(INDEX($B$6:$B$50,MATCH(I9,$A$6:$A$50,0)),"") | O9: =IFERROR(INDEX($C$6:$C$50,MATCH(I9,$A$6:$A$50,0)),"") | P9: =IFERROR(INDEX($D$6:$D$50,MATCH(I9,$A$6:$A$50,0)),"") | R9: =IFERROR(INDEX($B$6:$B$50,MATCH(J9,$A$6:$A$50,0)),"") | S9: =IFERROR(INDEX($C$6:$C$50,MATCH(J9,$A$6:$A$50,0)),"") | T9: =IFERROR(INDEX($D$6:$D$50,MATCH(J9,$A$6:$A$50,0)),"") | V9: =IFERROR(INDEX($B$6:$B$50,MATCH(K9,$A$6:$A$50,0)),"") | W9: =IFERROR(INDEX($C$6:$C$50,MATCH(K9,$A$6:$A$50,0)),"") | X9: =IFERROR(INDEX($D$6:$D$50,MATCH(K9,$A$6:$A$50,0)),"") | Z9: =IFERROR(INDEX($B$6:$B$50,MATCH(L9,$A$6:$A$50,0)),"") | AA9: =IFERROR(INDEX($C$6:$C$50,MATCH(L9,$A$6:$A$50,0)),"") | AB9: =IFERROR(INDEX($D$6:$D$50,MATCH(L9,$A$6:$A$50,0)),"")
A10: 5 | B10: =IF((INDEX(Tracker!$D$5:$D$49,MATCH(Tracker!C9,Workplan!$A$6:$A$50,0)))=0,B9,INDEX(Tracker!$D$5:$D$49,MATCH(Tracker!C9,Workplan!$A$6:$A$50,0))) -> Drainage and sewerage | C10: =INDEX(Tracker!$E$5:$E$49,MATCH(Tracker!C9,Workplan!$A$6:$A$50,0)) -> Periodic inspection | D10: =IF(INDEX(Tracker!$L$5:$L$49,MATCH(Tracker!C9,Workplan!$A$6:$A$50,0))=0,"",INDEX(Tracker!$L$5:$L$49,MATCH(Tracker!C9,Workplan!$A$6:$A$50,0))) | E10: =D10<=EDATE(TODAY(),1) -> FALSE | F10: =IF(AND(E10=FALSE,D10<=EDATE(TODAY(),2)),TRUE,FALSE) -> FALSE | G10: =IF(AND(F10=FALSE,E10=FALSE,D10<=EDATE(TODAY(),6)),TRUE,FALSE) -> FALSE | H10: =IF(AND(E10=FALSE,F10=FALSE,G10=FALSE,D10<>""),TRUE,FALSE) -> FALSE | I10: {=IFERROR(INDEX($A$1:$A$94,SMALL(IF($E$1:$E$94,ROW($A$1:$A$94)),ROW(5:5))),"")} | J10: {=IFERROR(INDEX($A$1:$A$94,SMALL(IF($F$1:$F$94,ROW($A$1:$A$94)),ROW(5:5))),"")} | K10: {=IFERROR(INDEX($A$1:$A$94,SMALL(IF($G$1:$G$94,ROW($A$1:$A$94)),ROW(5:5))),"")} | L10: {=IFERROR(INDEX($A$1:$A$94,SMALL(IF($H$1:$H$94,ROW($A$1:$A$94)),ROW(5:5))),"")} | N10: =IFERROR(INDEX($B$6:$B$50,MATCH(I10,$A$6:$A$50,0)),"") | O10: =IFERROR(INDEX($C$6:$C$50,MATCH(I10,$A$6:$A$50,0)),"") | P10: =IFERROR(INDEX($D$6:$D$50,MATCH(I10,$A$6:$A$50,0)),"") | R10: =IFERROR(INDEX($B$6:$B$50,MATCH(J10,$A$6:$A$50,0)),"") | S10: =IFERROR(INDEX($C$6:$C$50,MATCH(J10,$A$6:$A$50,0)),"") | T10: =IFERROR(INDEX($D$6:$D$50,MATCH(J10,$A$6:$A$50,0)),"") | V10: =IFERROR(INDEX($B$6:$B$50,MATCH(K10,$A$6:$A$50,0)),"") | W10: =IFERROR(INDEX($C$6:$C$50,MATCH(K10,$A$6:$A$50,0)),"") | X10: =IFERROR(INDEX($D$6:$D$50,MATCH(K10,$A$6:$A$50,0)),"") | Z10: =IFERROR(INDEX($B$6:$B$50,MATCH(L10,$A$6:$A$50,0)),"") | AA10: =IFERROR(INDEX($C$6:$C$50,MATCH(L10,$A$6:$A$50,0)),"") | AB10: =IFERROR(INDEX($D$6:$D$50,MATCH(L10,$A$6:$A$50,0)),"")
A11: 6 | B11: =IF((INDEX(Tracker!$D$5:$D$49,MATCH(Tracker!C10,Workplan!$A$6:$A$50,0)))=0,B10,INDEX(Tracker!$D$5:$D$49,MATCH(Tracker!C10,Workplan!$A$6:$A$50,0))) -> Asbestos | C11: =INDEX(Tracker!$E$5:$E$49,MATCH(Tracker!C10,Workplan!$A$6:$A$50,0)) -> Review of asbestos register and management plan | D11: =IF(INDEX(Tracker!$L$5:$L$49,MATCH(Tracker!C10,Workplan!$A$6:$A$50,0))=0,"",INDEX(Tracker!$L$5:$L$49,MATCH(Tracker!C10,Workplan!$A$6:$A$50,0))) | E11: =D11<=EDATE(TODAY(),1) -> FALSE | F11: =IF(AND(E11=FALSE,D11<=EDATE(TODAY(),2)),TRUE,FALSE) -> FALSE | G11: =IF(AND(F11=FALSE,E11=FALSE,D11<=EDATE(TODAY(),6)),TRUE,FALSE) -> FALSE | H11: =IF(AND(E11=FALSE,F11=FALSE,G11=FALSE,D11<>""),TRUE,FALSE) -> FALSE | I11: {=IFERROR(INDEX($A$1:$A$94,SMALL(IF($E$1:$E$94,ROW($A$1:$A$94)),ROW(6:6))),"")} | J11: {=IFERROR(INDEX($A$1:$A$94,SMALL(IF($F$1:$F$94,ROW($A$1:$A$94)),ROW(6:6))),"")} | K11: {=IFERROR(INDEX($A$1:$A$94,SMALL(IF($G$1:$G$94,ROW($A$1:$A$94)),ROW(6:6))),"")} | L11: {=IFERROR(INDEX($A$1:$A$94,SMALL(IF($H$1:$H$94,ROW($A$1:$A$94)),ROW(6:6))),"")} | N11: =IFERROR(INDEX($B$6:$B$50,MATCH(I11,$A$6:$A$50,0)),"") | O11: =IFERROR(INDEX($C$6:$C$50,MATCH(I11,$A$6:$A$50,0)),"") | P11: =IFERROR(INDEX($D$6:$D$50,MATCH(I11,$A$6:$A$50,0)),"") | R11: =IFERROR(INDEX($B$6:$B$50,MATCH(J11,$A$6:$A$50,0)),"") | S11: =IFERROR(INDEX($C$6:$C$50,MATCH(J11,$A$6:$A$50,0)),"") | T11: =IFERROR(INDEX($D$6:$D$50,MATCH(J11,$A$6:$A$50,0)),"") | V11: =IFERROR(INDEX($B$6:$B$50,MATCH(K11,$A$6:$A$50,0)),"") | W11: =IFERROR(INDEX($C$6:$C$50,MATCH(K11,$A$6:$A$50,0)),"") | X11: =IFERROR(INDEX($D$6:$D$50,MATCH(K11,$A$6:$A$50,0)),"") | Z11: =IFERROR(INDEX($B$6:$B$50,MATCH(L11,$A$6:$A$50,0)),"") | AA11: =IFERROR(INDEX($C$6:$C$50,MATCH(L11,$A$6:$A$50,0)),"") | AB11: =IFERROR(INDEX($D$6:$D$50,MATCH(L11,$A$6:$A$50,0)),"")
A12: 7 | B12: =IF((INDEX(Tracker!$D$5:$D$49,MATCH(Tracker!C11,Workplan!$A$6:$A$50,0)))=0,B11,INDEX(Tracker!$D$5:$D$49,MATCH(Tracker!C11,Workplan!$A$6:$A$50,0))) -> Alarms | C12: =INDEX(Tracker!$E$5:$E$49,MATCH(Tracker!C11,Workplan!$A$6:$A$50,0)) -> Fire alarm function test | D12: =IF(INDEX(Tracker!$L$5:$L$49,MATCH(Tracker!C11,Workplan!$A$6:$A$50,0))=0,"",INDEX(Tracker!$L$5:$L$49,MATCH(Tracker!C11,Workplan!$A$6:$A$50,0))) | E12: =D12<=EDATE(TODAY(),1) -> FALSE | F12: =IF(AND(E12=FALSE,D12<=EDATE(TODAY(),2)),TRUE,FALSE) -> FALSE | G12: =IF(AND(F12=FALSE,E12=FALSE,D12<=EDATE(TODAY(),6)),TRUE,FALSE) -> FALSE | H12: =IF(AND(E12=FALSE,F12=FALSE,G12=FALSE,D12<>""),TRUE,FALSE) -> FALSE | I12: {=IFERROR(INDEX($A$1:$A$94,SMALL(IF($E$1:$E$94,ROW($A$1:$A$94)),ROW(7:7))),"")} | J12: {=IFERROR(INDEX($A$1:$A$94,SMALL(IF($F$1:$F$94,ROW($A$1:$A$94)),ROW(7:7))),"")} | K12: {=IFERROR(INDEX($A$1:$A$94,SMALL(IF($G$1:$G$94,ROW($A$1:$A$94)),ROW(7:7))),"")} | L12: {=IFERROR(INDEX($A$1:$A$94,SMALL(IF($H$1:$H$94,ROW($A$1:$A$94)),ROW(7:7))),"")} | N12: =IFERROR(INDEX($B$6:$B$50,MATCH(I12,$A$6:$A$50,0)),"") | O12: =IFERROR(INDEX($C$6:$C$50,MATCH(I12,$A$6:$A$50,0)),"") | P12: =IFERROR(INDEX($D$6:$D$50,MATCH(I12,$A$6:$A$50,0)),"") | R12: =IFERROR(INDEX($B$6:$B$50,MATCH(J12,$A$6:$A$50,0)),"") | S12: =IFERROR(INDEX($C$6:$C$50,MATCH(J12,$A$6:$A$50,0)),"") | T12: =IFERROR(INDEX($D$6:$D$50,MATCH(J12,$A$6:$A$50,0)),"") | V12: =IFERROR(INDEX($B$6:$B$50,MATCH(K12,$A$6:$A$50,0)),"") | W12: =IFERROR(INDEX($C$6:$C$50,MATCH(K12,$A$6:$A$50,0)),"") | X12: =IFERROR(INDEX($D$6:$D$50,MATCH(K12,$A$6:$A$50,0)),"") | Z12: =IFERROR(INDEX($B$6:$B$50,MATCH(L12,$A$6:$A$50,0)),"") | AA12: =IFERROR(INDEX($C$6:$C$50,MATCH(L12,$A$6:$A$50,0)),"") | AB12: =IFERROR(INDEX($D$6:$D$50,MATCH(L12,$A$6:$A$50,0)),"")
A13: 8 | B13: =IF((INDEX(Tracker!$D$5:$D$49,MATCH(Tracker!C12,Workplan!$A$6:$A$50,0)))=0,B12,INDEX(Tracker!$D$5:$D$49,MATCH(Tracker!C12,Workplan!$A$6:$A$50,0))) -> Alarms | C13: =INDEX(Tracker!$E$5:$E$49,MATCH(Tracker!C12,Workplan!$A$6:$A$50,0)) -> Full inspection and test | D13: =IF(INDEX(Tracker!$L$5:$L$49,MATCH(Tracker!C12,Workplan!$A$6:$A$50,0))=0,"",INDEX(Tracker!$L$5:$L$49,MATCH(Tracker!C12,Workplan!$A$6:$A$50,0))) | E13: =D13<=EDATE(TODAY(),1) -> FALSE | F13: =IF(AND(E13=FALSE,D13<=EDATE(TODAY(),2)),TRUE,FALSE) -> FALSE | G13: =IF(AND(F13=FALSE,E13=FALSE,D13<=EDATE(TODAY(),6)),TRUE,FALSE) -> FALSE | H13: =IF(AND(E13=FALSE,F13=FALSE,G13=FALSE,D13<>""),TRUE,FALSE) -> FALSE | I13: {=IFERROR(INDEX($A$1:$A$94,SMALL(IF($E$1:$E$94,ROW($A$1:$A$94)),ROW(8:8))),"")} | J13: {=IFERROR(INDEX($A$1:$A$94,SMALL(IF($F$1:$F$94,ROW($A$1:$A$94)),ROW(8:8))),"")} | K13: {=IFERROR(INDEX($A$1:$A$94,SMALL(IF($G$1:$G$94,ROW($A$1:$A$94)),ROW(8:8))),"")} | L13: {=IFERROR(INDEX($A$1:$A$94,SMALL(IF($H$1:$H$94,ROW($A$1:$A$94)),ROW(8:8))),"")} | N13: =IFERROR(INDEX($B$6:$B$50,MATCH(I13,$A$6:$A$50,0)),"") | O13: =IFERROR(INDEX($C$6:$C$50,MATCH(I13,$A$6:$A$50,0)),"") | P13: =IFERROR(INDEX($D$6:$D$50,MATCH(I13,$A$6:$A$50,0)),"") | R13: =IFERROR(INDEX($B$6:$B$50,MATCH(J13,$A$6:$A$50,0)),"") | S13: =IFERROR(INDEX($C$6:$C$50,MATCH(J13,$A$6:$A$50,0)),"") | T13: =IFERROR(INDEX($D$6:$D$50,MATCH(J13,$A$6:$A$50,0)),"") | V13: =IFERROR(INDEX($B$6:$B$50,MATCH(K13,$A$6:$A$50,0)),"") | W13: =IFERROR(INDEX($C$6:$C$50,MATCH(K13,$A$6:$A$50,0)),"") | X13: =IFERROR(INDEX($D$6:$D$50,MATCH(K13,$A$6:$A$50,0)),"") | Z13: =IFERROR(INDEX($B$6:$B$50,MATCH(L13,$A$6:$A$50,0)),"") | AA13: =IFERROR(INDEX($C$6:$C$50,MATCH(L13,$A$6:$A$50,0)),"") | AB13: =IFERROR(INDEX($D$6:$D$50,MATCH(L13,$A$6:$A$50,0)),"")
A14: 9 | B14: =IF((INDEX(Tracker!$D$5:$D$49,MATCH(Tracker!C13,Workplan!$A$6:$A$50,0)))=0,B13,INDEX(Tracker!$D$5:$D$49,MATCH(Tracker!C13,Workplan!$A$6:$A$50,0))) -> Alarms | C14: =INDEX(Tracker!$E$5:$E$49,MATCH(Tracker!C13,Workplan!$A$6:$A$50,0)) -> Annual detailed service and Inspection | D14: =IF(INDEX(Tracker!$L$5:$L$49,MATCH(Tracker!C13,Workplan!$A$6:$A$50,0))=0,"",INDEX(Tracker!$L$5:$L$49,MATCH(Tracker!C13,Workplan!$A$6:$A$50,0))) | E14: =D14<=EDATE(TODAY(),1) -> FALSE | F14: =IF(AND(E14=FALSE,D14<=EDATE(TODAY(),2)),TRUE,FALSE) -> FALSE | G14: =IF(AND(F14=FALSE,E14=FALSE,D14<=EDATE(TODAY(),6)),TRUE,FALSE) -> FALSE | H14: =IF(AND(E14=FALSE,F14=FALSE,G14=FALSE,D14<>""),TRUE,FALSE) -> FALSE | I14: {=IFERROR(INDEX($A$1:$A$94,SMALL(IF($E$1:$E$94,ROW($A$1:$A$94)),ROW(9:9))),"")} | J14: {=IFERROR(INDEX($A$1:$A$94,SMALL(IF($F$1:$F$94,ROW($A$1:$A$94)),ROW(9:9))),"")} | K14: {=IFERROR(INDEX($A$1:$A$94,SMALL(IF($G$1:$G$94,ROW($A$1:$A$94)),ROW(9:9))),"")} | L14: {=IFERROR(INDEX($A$1:$A$94,SMALL(IF($H$1:$H$94,ROW($A$1:$A$94)),ROW(9:9))),"")} | N14: =IFERROR(INDEX($B$6:$B$50,MATCH(I14,$A$6:$A$50,0)),"") | O14: =IFERROR(INDEX($C$6:$C$50,MATCH(I14,$A$6:$A$50,0)),"") | P14: =IFERROR(INDEX($D$6:$D$50,MATCH(I14,$A$6:$A$50,0)),"") | R14: =IFERROR(INDEX($B$6:$B$50,MATCH(J14,$A$6:$A$50,0)),"") | S14: =IFERROR(INDEX($C$6:$C$50,MATCH(J14,$A$6:$A$50,0)),"") | T14: =IFERROR(INDEX($D$6:$D$50,MATCH(J14,$A$6:$A$50,0)),"") | V14: =IFERROR(INDEX($B$6:$B$50,MATCH(K14,$A$6:$A$50,0)),"") | W14: =IFERROR(INDEX($C$6:$C$50,MATCH(K14,$A$6:$A$50,0)),"") | X14: =IFERROR(INDEX($D$6:$D$50,MATCH(K14,$A$6:$A$50,0)),"") | Z14: =IFERROR(INDEX($B$6:$B$50,MATCH(L14,$A$6:$A$50,0)),"") | AA14: =IFERROR(INDEX($C$6:$C$50,MATCH(L14,$A$6:$A$50,0)),"") | AB14: =IFERROR(INDEX($D$6:$D$50,MATCH(L14,$A$6:$A$50,0)),"")
A15: 10 | B15: =IF((INDEX(Tracker!$D$5:$D$49,MATCH(Tracker!C14,Workplan!$A$6:$A$50,0)))=0,B14,INDEX(Tracker!$D$5:$D$49,MATCH(Tracker!C14,Workplan!$A$6:$A$50,0))) -> Fire escape and safety | C15: =INDEX(Tracker!$E$5:$E$49,MATCH(Tracker!C14,Workplan!$A$6:$A$50,0)) -> Fire risk assessment | D15: =IF(INDEX(Tracker!$L$5:$L$49,MATCH(Tracker!C14,Workplan!$A$6:$A$50,0))=0,"",INDEX(Tracker!$L$5:$L$49,MATCH(Tracker!C14,Workplan!$A$6:$A$50,0))) | E15: =D15<=EDATE(TODAY(),1) -> FALSE | F15: =IF(AND(E15=FALSE,D15<=EDATE(TODAY(),2)),TRUE,FALSE) -> FALSE | G15: =IF(AND(F15=FALSE,E15=FALSE,D15<=EDATE(TODAY(),6)),TRUE,FALSE) -> FALSE | H15: =IF(AND(E15=FALSE,F15=FALSE,G15=FALSE,D15<>""),TRUE,FALSE) -> FALSE | I15: {=IFERROR(INDEX($A$1:$A$94,SMALL(IF($E$1:$E$94,ROW($A$1:$A$94)),ROW(10:10))),"")} | J15: {=IFERROR(INDEX($A$1:$A$94,SMALL(IF($F$1:$F$94,ROW($A$1:$A$94)),ROW(10:10))),"")} | K15: {=IFERROR(INDEX($A$1:$A$94,SMALL(IF($G$1:$G$94,ROW($A$1:$A$94)),ROW(10:10))),"")} | L15: {=IFERROR(INDEX($A$1:$A$94,SMALL(IF($H$1:$H$94,ROW($A$1:$A$94)),ROW(10:10))),"")} | N15: =IFERROR(INDEX($B$6:$B$50,MATCH(I15,$A$6:$A$50,0)),"") | O15: =IFERROR(INDEX($C$6:$C$50,MATCH(I15,$A$6:$A$50,0)),"") | P15: =IFERROR(INDEX($D$6:$D$50,MATCH(I15,$A$6:$A$50,0)),"") | R15: =IFERROR(INDEX($B$6:$B$50,MATCH(J15,$A$6:$A$50,0)),"") | S15: =IFERROR(INDEX($C$6:$C$50,MATCH(J15,$A$6:$A$50,0)),"") | T15: =IFERROR(INDEX($D$6:$D$50,MATCH(J15,$A$6:$A$50,0)),"") | V15: =IFERROR(INDEX($B$6:$B$50,MATCH(K15,$A$6:$A$50,0)),"") | W15: =IFERROR(INDEX($C$6:$C$50,MATCH(K15,$A$6:$A$50,0)),"") | X15: =IFERROR(INDEX($D$6:$D$50,MATCH(K15,$A$6:$A$50,0)),"") | Z15: =IFERROR(INDEX($B$6:$B$50,MATCH(L15,$A$6:$A$50,0)),"") | AA15: =IFERROR(INDEX($C$6:$C$50,MATCH(L15,$A$6:$A$50,0)),"") | AB15: =IFERROR(INDEX($D$6:$D$50,MATCH(L15,$A$6:$A$50,0)),"")
A16: 11 | B16: =IF((INDEX(Tracker!$D$5:$D$49,MATCH(Tracker!C15,Workplan!$A$6:$A$50,0)))=0,B15,INDEX(Tracker!$D$5:$D$49,MATCH(Tracker!C15,Workplan!$A$6:$A$50,0))) -> Fire doors | C16: =INDEX(Tracker!$E$5:$E$49,MATCH(Tracker!C15,Workplan!$A$6:$A$50,0)) -> Periodic inspection | D16: =IF(INDEX(Tracker!$L$5:$L$49,MATCH(Tracker!C15,Workplan!$A$6:$A$50,0))=0,"",INDEX(Tracker!$L$5:$L$49,MATCH(Tracker!C15,Workplan!$A$6:$A$50,0))) | E16: =D16<=EDATE(TODAY(),1) -> FALSE | F16: =IF(AND(E16=FALSE,D16<=EDATE(TODAY(),2)),TRUE,FALSE) -> FALSE | G16: =IF(AND(F16=FALSE,E16=FALSE,D16<=EDATE(TODAY(),6)),TRUE,FALSE) -> FALSE | H16: =IF(AND(E16=FALSE,F16=FALSE,G16=FALSE,D16<>""),TRUE,FALSE) -> FALSE | I16: {=IFERROR(INDEX($A$1:$A$94,SMALL(IF($E$1:$E$94,ROW($A$1:$A$94)),ROW(11:11))),"")} | J16: {=IFERROR(INDEX($A$1:$A$94,SMALL(IF($F$1:$F$94,ROW($A$1:$A$94)),ROW(11:11))),"")} | K16: {=IFERROR(INDEX($A$1:$A$94,SMALL(IF($G$1:$G$94,ROW($A$1:$A$94)),ROW(11:11))),"")} | L16: {=IFERROR(INDEX($A$1:$A$94,SMALL(IF($H$1:$H$94,ROW($A$1:$A$94)),ROW(11:11))),"")} | N16: =IFERROR(INDEX($B$6:$B$50,MATCH(I16,$A$6:$A$50,0)),"") | O16: =IFERROR(INDEX($C$6:$C$50,MATCH(I16,$A$6:$A$50,0)),"") | P16: =IFERROR(INDEX($D$6:$D$50,MATCH(I16,$A$6:$A$50,0)),"") | R16: =IFERROR(INDEX($B$6:$B$50,MATCH(J16,$A$6:$A$50,0)),"") | S16: =IFERROR(INDEX($C$6:$C$50,MATCH(J16,$A$6:$A$50,0)),"") | T16: =IFERROR(INDEX($D$6:$D$50,MATCH(J16,$A$6:$A$50,0)),"") | V16: =IFERROR(INDEX($B$6:$B$50,MATCH(K16,$A$6:$A$50,0)),"") | W16: =IFERROR(INDEX($C$6:$C$50,MATCH(K16,$A$6:$A$50,0)),"") | X16: =IFERROR(INDEX($D$6:$D$50,MATCH(K16,$A$6:$A$50,0)),"") | Z16: =IFERROR(INDEX($B$6:$B$50,MATCH(L16,$A$6:$A$50,0)),"") | AA16: =IFERROR(INDEX($C$6:$C$50,MATCH(L16,$A$6:$A$50,0)),"") | AB16: =IFERROR(INDEX($D$6:$D$50,MATCH(L16,$A$6:$A$50,0)),"")
A17: 12 | B17: =IF((INDEX(Tracker!$D$5:$D$49,MATCH(Tracker!C16,Workplan!$A$6:$A$50,0)))=0,B16,INDEX(Tracker!$D$5:$D$49,MATCH(Tracker!C16,Workplan!$A$6:$A$50,0))) -> Fire fighting equipment | C17: =INDEX(Tracker!$E$5:$E$49,MATCH(Tracker!C16,Workplan!$A$6:$A$50,0)) -> Fire extinguisher inspection | D17: =IF(INDEX(Tracker!$L$5:$L$49,MATCH(Tracker!C16,Workplan!$A$6:$A$50,0))=0,"",INDEX(Tracker!$L$5:$L$49,MATCH(Tracker!C16,Workplan!$A$6:$A$50,0))) | E17: =D17<=EDATE(TODAY(),1) -> FALSE | F17: =IF(AND(E17=FALSE,D17<=EDATE(TODAY(),2)),TRUE,FALSE) -> FALSE | G17: =IF(AND(F17=FALSE,E17=FALSE,D17<=EDATE(TODAY(),6)),TRUE,FALSE) -> FALSE | H17: =IF(AND(E17=FALSE,F17=FALSE,G17=FALSE,D17<>""),TRUE,FALSE) -> FALSE | I17: {=IFERROR(INDEX($A$1:$A$94,SMALL(IF($E$1:$E$94,ROW($A$1:$A$94)),ROW(12:12))),"")} | J17: {=IFERROR(INDEX($A$1:$A$94,SMALL(IF($F$1:$F$94,ROW($A$1:$A$94)),ROW(12:12))),"")} | K17: {=IFERROR(INDEX($A$1:$A$94,SMALL(IF($G$1:$G$94,ROW($A$1:$A$94)),ROW(12:12))),"")} | L17: {=IFERROR(INDEX($A$1:$A$94,SMALL(IF($H$1:$H$94,ROW($A$1:$A$94)),ROW(12:12))),"")} | N17: =IFERROR(INDEX($B$6:$B$50,MATCH(I17,$A$6:$A$50,0)),"") | O17: =IFERROR(INDEX($C$6:$C$50,MATCH(I17,$A$6:$A$50,0)),"") | P17: =IFERROR(INDEX($D$6:$D$50,MATCH(I17,$A$6:$A$50,0)),"") | R17: =IFERROR(INDEX($B$6:$B$50,MATCH(J17,$A$6:$A$50,0)),"") | S17: =IFERROR(INDEX($C$6:$C$50,MATCH(J17,$A$6:$A$50,0)),"") | T17: =IFERROR(INDEX($D$6:$D$50,MATCH(J17,$A$6:$A$50,0)),"") | V17: =IFERROR(INDEX($B$6:$B$50,MATCH(K17,$A$6:$A$50,0)),"") | W17: =IFERROR(INDEX($C$6:$C$50,MATCH(K17,$A$6:$A$50,0)),"") | X17: =IFERROR(INDEX($D$6:$D$50,MATCH(K17,$A$6:$A$50,0)),"") | Z17: =IFERROR(INDEX($B$6:$B$50,MATCH(L17,$A$6:$A$50,0)),"") | AA17: =IFERROR(INDEX($C$6:$C$50,MATCH(L17,$A$6:$A$50,0)),"") | AB17: =IFERROR(INDEX($D$6:$D$50,MATCH(L17,$A$6:$A$50,0)),"")
A18: 13 | B18: =IF((INDEX(Tracker!$D$5:$D$49,MATCH(Tracker!C17,Workplan!$A$6:$A$50,0)))=0,B17,INDEX(Tracker!$D$5:$D$49,MATCH(Tracker!C17,Workplan!$A$6:$A$50,0))) -> Fire fighting equipment | C18: =INDEX(Tracker!$E$5:$E$49,MATCH(Tracker!C17,Workplan!$A$6:$A$50,0)) -> Fire blanket inspection | D18: =IF(INDEX(Tracker!$L$5:$L$49,MATCH(Tracker!C17,Workplan!$A$6:$A$50,0))=0,"",INDEX(Tracker!$L$5:$L$49,MATCH(Tracker!C17,Workplan!$A$6:$A$50,0))) | E18: =D18<=EDATE(TODAY(),1) -> FALSE | F18: =IF(AND(E18=FALSE,D18<=EDATE(TODAY(),2)),TRUE,FALSE) -> FALSE | G18: =IF(AND(F18=FALSE,E18=FALSE,D18<=EDATE(TODAY(),6)),TRUE,FALSE) -> FALSE | H18: =IF(AND(E18=FALSE,F18=FALSE,G18=FALSE,D18<>""),TRUE,FALSE) -> FALSE | I18: {=IFERROR(INDEX($A$1:$A$94,SMALL(IF($E$1:$E$94,ROW($A$1:$A$94)),ROW(13:13))),"")} | J18: {=IFERROR(INDEX($A$1:$A$94,SMALL(IF($F$1:$F$94,ROW($A$1:$A$94)),ROW(13:13))),"")} | K18: {=IFERROR(INDEX($A$1:$A$94,SMALL(IF($G$1:$G$94,ROW($A$1:$A$94)),ROW(13:13))),"")} | L18: {=IFERROR(INDEX($A$1:$A$94,SMALL(IF($H$1:$H$94,ROW($A$1:$A$94)),ROW(13:13))),"")} | N18: =IFERROR(INDEX($B$6:$B$50,MATCH(I18,$A$6:$A$50,0)),"") | O18: =IFERROR(INDEX($C$6:$C$50,MATCH(I18,$A$6:$A$50,0)),"") | P18: =IFERROR(INDEX($D$6:$D$50,MATCH(I18,$A$6:$A$50,0)),"") | R18: =IFERROR(INDEX($B$6:$B$50,MATCH(J18,$A$6:$A$50,0)),"") | S18: =IFERROR(INDEX($C$6:$C$50,MATCH(J18,$A$6:$A$50,0)),"") | T18: =IFERROR(INDEX($D$6:$D$50,MATCH(J18,$A$6:$A$50,0)),"") | V18: =IFERROR(INDEX($B$6:$B$50,MATCH(K18,$A$6:$A$50,0)),"") | W18: =IFERROR(INDEX($C$6:$C$50,MATCH(K18,$A$6:$A$50,0)),"") | X18: =IFERROR(INDEX($D$6:$D$50,MATCH(K18,$A$6:$A$50,0)),"") | Z18: =IFERROR(INDEX($B$6:$B$50,MATCH(L18,$A$6:$A$50,0)),"") | AA18: =IFERROR(INDEX($C$6:$C$50,MATCH(L18,$A$6:$A$50,0)),"") | AB18: =IFERROR(INDEX($D$6:$D$50,MATCH(L18,$A$6:$A$50,0)),"")
A19: 14 | B19: =IF((INDEX(Tracker!$D$5:$D$49,MATCH(Tracker!C18,Workplan!$A$6:$A$50,0)))=0,B18,INDEX(Tracker!$D$5:$D$49,MATCH(Tracker!C18,Workplan!$A$6:$A$50,0))) -> Fire fighting equipment | C19: =INDEX(Tracker!$E$5:$E$49,MATCH(Tracker!C18,Workplan!$A$6:$A$50,0)) -> Hose Reels Inspection | D19: =IF(INDEX(Tracker!$L$5:$L$49,MATCH(Tracker!C18,Workplan!$A$6:$A$50,0))=0,"",INDEX(Tracker!$L$5:$L$49,MATCH(Tracker!C18,Workplan!$A$6:$A$50,0))) | E19: =D19<=EDATE(TODAY(),1) -> FALSE | F19: =IF(AND(E19=FALSE,D19<=EDATE(TODAY(),2)),TRUE,FALSE) -> FALSE | G19: =IF(AND(F19=FALSE,E19=FALSE,D19<=EDATE(TODAY(),6)),TRUE,FALSE) -> FALSE | H19: =IF(AND(E19=FALSE,F19=FALSE,G19=FALSE,D19<>""),TRUE,FALSE) -> FALSE | I19: {=IFERROR(INDEX($A$1:$A$94,SMALL(IF($E$1:$E$94,ROW($A$1:$A$94)),ROW(14:14))),"")} | J19: {=IFERROR(INDEX($A$1:$A$94,SMALL(IF($F$1:$F$94,ROW($A$1:$A$94)),ROW(14:14))),"")} | K19: {=IFERROR(INDEX($A$1:$A$94,SMALL(IF($G$1:$G$94,ROW($A$1:$A$94)),ROW(14:14))),"")} | L19: {=IFERROR(INDEX($A$1:$A$94,SMALL(IF($H$1:$H$94,ROW($A$1:$A$94)),ROW(14:14))),"")} | N19: =IFERROR(INDEX($B$6:$B$50,MATCH(I19,$A$6:$A$50,0)),"") | O19: =IFERROR(INDEX($C$6:$C$50,MATCH(I19,$A$6:$A$50,0)),"") | P19: =IFERROR(INDEX($D$6:$D$50,MATCH(I19,$A$6:$A$50,0)),"") | R19: =IFERROR(INDEX($B$6:$B$50,MATCH(J19,$A$6:$A$50,0)),"") | S19: =IFERROR(INDEX($C$6:$C$50,MATCH(J19,$A$6:$A$50,0)),"") | T19: =IFERROR(INDEX($D$6:$D$50,MATCH(J19,$A$6:$A$50,0)),"") | V19: =IFERROR(INDEX($B$6:$B$50,MATCH(K19,$A$6:$A$50,0)),"") | W19: =IFERROR(INDEX($C$6:$C$50,MATCH(K19,$A$6:$A$50,0)),"") | X19: =IFERROR(INDEX($D$6:$D$50,MATCH(K19,$A$6:$A$50,0)),"") | Z19: =IFERROR(INDEX($B$6:$B$50,MATCH(L19,$A$6:$A$50,0)),"") | AA19: =IFERROR(INDEX($C$6:$C$50,MATCH(L19,$A$6:$A$50,0)),"") | AB19: =IFERROR(INDEX($D$6:$D$50,MATCH(L19,$A$6:$A$50,0)),"")
A20: 15 | B20: =IF((INDEX(Tracker!$D$5:$D$49,MATCH(Tracker!C19,Workplan!$A$6:$A$50,0)))=0,B19,INDEX(Tracker!$D$5:$D$49,MATCH(Tracker!C19,Workplan!$A$6:$A$50,0))) -> Fire fighting equipment | C20: =INDEX(Tracker!$E$5:$E$49,MATCH(Tracker!C19,Workplan!$A$6:$A$50,0)) -> Fixed fire suppression systems inspection and test | D20: =IF(INDEX(Tracker!$L$5:$L$49,MATCH(Tracker!C19,Workplan!$A$6:$A$50,0))=0,"",INDEX(Tracker!$L$5:$L$49,MATCH(Tracker!C19,Workplan!$A$6:$A$50,0))) | E20: =D20<=EDATE(TODAY(),1) -> FALSE | F20: =IF(AND(E20=FALSE,D20<=EDATE(TODAY(),2)),TRUE,FALSE) -> FALSE | G20: =IF(AND(F20=FALSE,E20=FALSE,D20<=EDATE(TODAY(),6)),TRUE,FALSE) -> FALSE | H20: =IF(AND(E20=FALSE,F20=FALSE,G20=FALSE,D20<>""),TRUE,FALSE) -> FALSE | I20: {=IFERROR(INDEX($A$1:$A$94,SMALL(IF($E$1:$E$94,ROW($A$1:$A$94)),ROW(15:15))),"")} | J20: {=IFERROR(INDEX($A$1:$A$94,SMALL(IF($F$1:$F$94,ROW($A$1:$A$94)),ROW(15:15))),"")} | K20: {=IFERROR(INDEX($A$1:$A$94,SMALL(IF($G$1:$G$94,ROW($A$1:$A$94)),ROW(15:15))),"")} | L20: {=IFERROR(INDEX($A$1:$A$94,SMALL(IF($H$1:$H$94,ROW($A$1:$A$94)),ROW(15:15))),"")} | N20: =IFERROR(INDEX($B$6:$B$50,MATCH(I20,$A$6:$A$50,0)),"") | O20: =IFERROR(INDEX($C$6:$C$50,MATCH(I20,$A$6:$A$50,0)),"") | P20: =IFERROR(INDEX($D$6:$D$50,MATCH(I20,$A$6:$A$50,0)),"") | R20: =IFERROR(INDEX($B$6:$B$50,MATCH(J20,$A$6:$A$50,0)),"") | S20: =IFERROR(INDEX($C$6:$C$50,MATCH(J20,$A$6:$A$50,0)),"") | T20: =IFERROR(INDEX($D$6:$D$50,MATCH(J20,$A$6:$A$50,0)),"") | V20: =IFERROR(INDEX($B$6:$B$50,MATCH(K20,$A$6:$A$50,0)),"") | W20: =IFERROR(INDEX($C$6:$C$50,MATCH(K20,$A$6:$A$50,0)),"") | X20: =IFERROR(INDEX($D$6:$D$50,MATCH(K20,$A$6:$A$50,0)),"") | Z20: =IFERROR(INDEX($B$6:$B$50,MATCH(L20,$A$6:$A$50,0)),"") | AA20: =IFERROR(INDEX($C$6:$C$50,MATCH(L20,$A$6:$A$50,0)),"") | AB20: =IFERROR(INDEX($D$6:$D$50,MATCH(L20,$A$6:$A$50,0)),"")
A21: 16 | B21: =IF((INDEX(Tracker!$D$5:$D$49,MATCH(Tracker!C20,Workplan!$A$6:$A$50,0)))=0,B20,INDEX(Tracker!$D$5:$D$49,MATCH(Tracker!C20,Workplan!$A$6:$A$50,0))) -> Emergency lighting | C21: =INDEX(Tracker!$E$5:$E$49,MATCH(Tracker!C20,Workplan!$A$6:$A$50,0)) -> Operational test | D21: =IF(INDEX(Tracker!$L$5:$L$49,MATCH(Tracker!C20,Workplan!$A$6:$A$50,0))=0,"",INDEX(Tracker!$L$5:$L$49,MATCH(Tracker!C20,Workplan!$A$6:$A$50,0))) | E21: =D21<=EDATE(TODAY(),1) -> FALSE | F21: =IF(AND(E21=FALSE,D21<=EDATE(TODAY(),2)),TRUE,FALSE) -> FALSE | G21: =IF(AND(F21=FALSE,E21=FALSE,D21<=EDATE(TODAY(),6)),TRUE,FALSE) -> FALSE | H21: =IF(AND(E21=FALSE,F21=FALSE,G21=FALSE,D21<>""),TRUE,FALSE) -> FALSE | I21: {=IFERROR(INDEX($A$1:$A$94,SMALL(IF($E$1:$E$94,ROW($A$1:$A$94)),ROW(16:16))),"")} | J21: {=IFERROR(INDEX($A$1:$A$94,SMALL(IF($F$1:$F$94,ROW($A$1:$A$94)),ROW(16:16))),"")} | K21: {=IFERROR(INDEX($A$1:$A$94,SMALL(IF($G$1:$G$94,ROW($A$1:$A$94)),ROW(16:16))),"")} | L21: {=IFERROR(INDEX($A$1:$A$94,SMALL(IF($H$1:$H$94,ROW($A$1:$A$94)),ROW(16:16))),"")} | N21: =IFERROR(INDEX($B$6:$B$50,MATCH(I21,$A$6:$A$50,0)),"") | O21: =IFERROR(INDEX($C$6:$C$50,MATCH(I21,$A$6:$A$50,0)),"") | P21: =IFERROR(INDEX($D$6:$D$50,MATCH(I21,$A$6:$A$50,0)),"") | R21: =IFERROR(INDEX($B$6:$B$50,MATCH(J21,$A$6:$A$50,0)),"") | S21: =IFERROR(INDEX($C$6:$C$50,MATCH(J21,$A$6:$A$50,0)),"") | T21: =IFERROR(INDEX($D$6:$D$50,MATCH(J21,$A$6:$A$50,0)),"") | V21: =IFERROR(INDEX($B$6:$B$50,MATCH(K21,$A$6:$A$50,0)),"") | W21: =IFERROR(INDEX($C$6:$C$50,MATCH(K21,$A$6:$A$50,0)),"") | X21: =IFERROR(INDEX($D$6:$D$50,MATCH(K21,$A$6:$A$50,0)),"") | Z21: =IFERROR(INDEX($B$6:$B$50,MATCH(L21,$A$6:$A$50,0)),"") | AA21: =IFERROR(INDEX($C$6:$C$50,MATCH(L21,$A$6:$A$50,0)),"") | AB21: =IFERROR(INDEX($D$6:$D$50,MATCH(L21,$A$6:$A$50,0)),"")
A22: 17 | B22: =IF((INDEX(Tracker!$D$5:$D$49,MATCH(Tracker!C21,Workplan!$A$6:$A$50,0)))=0,B21,INDEX(Tracker!$D$5:$D$49,MATCH(Tracker!C21,Workplan!$A$6:$A$50,0))) -> Emergency lighting | C22: =INDEX(Tracker!$E$5:$E$49,MATCH(Tracker!C21,Workplan!$A$6:$A$50,0)) -> Full inspection and test | D22: =IF(INDEX(Tracker!$L$5:$L$49,MATCH(Tracker!C21,Workplan!$A$6:$A$50,0))=0,"",INDEX(Tracker!$L$5:$L$49,MATCH(Tracker!C21,Workplan!$A$6:$A$50,0))) | E22: =D22<=EDATE(TODAY(),1) -> FALSE | F22: =IF(AND(E22=FALSE,D22<=EDATE(TODAY(),2)),TRUE,FALSE) -> FALSE | G22: =IF(AND(F22=FALSE,E22=FALSE,D22<=EDATE(TODAY(),6)),TRUE,FALSE) -> FALSE | H22: =IF(AND(E22=FALSE,F22=FALSE,G22=FALSE,D22<>""),TRUE,FALSE) -> FALSE | I22: {=IFERROR(INDEX($A$1:$A$94,SMALL(IF($E$1:$E$94,ROW($A$1:$A$94)),ROW(17:17))),"")} | J22: {=IFERROR(INDEX($A$1:$A$94,SMALL(IF($F$1:$F$94,ROW($A$1:$A$94)),ROW(17:17))),"")} | K22: {=IFERROR(INDEX($A$1:$A$94,SMALL(IF($G$1:$G$94,ROW($A$1:$A$94)),ROW(17:17))),"")} | L22: {=IFERROR(INDEX($A$1:$A$94,SMALL(IF($H$1:$H$94,ROW($A$1:$A$94)),ROW(17:17))),"")} | N22: =IFERROR(INDEX($B$6:$B$50,MATCH(I22,$A$6:$A$50,0)),"") | O22: =IFERROR(INDEX($C$6:$C$50,MATCH(I22,$A$6:$A$50,0)),"") | P22: =IFERROR(INDEX($D$6:$D$50,MATCH(I22,$A$6:$A$50,0)),"") | R22: =IFERROR(INDEX($B$6:$B$50,MATCH(J22,$A$6:$A$50,0)),"") | S22: =IFERROR(INDEX($C$6:$C$50,MATCH(J22,$A$6:$A$50,0)),"") | T22: =IFERROR(INDEX($D$6:$D$50,MATCH(J22,$A$6:$A$50,0)),"") | V22: =IFERROR(INDEX($B$6:$B$50,MATCH(K22,$A$6:$A$50,0)),"") | W22: =IFERROR(INDEX($C$6:$C$50,MATCH(K22,$A$6:$A$50,0)),"") | X22: =IFERROR(INDEX($D$6:$D$50,MATCH(K22,$A$6:$A$50,0)),"") | Z22: =IFERROR(INDEX($B$6:$B$50,MATCH(L22,$A$6:$A$50,0)),"") | AA22: =IFERROR(INDEX($C$6:$C$50,MATCH(L22,$A$6:$A$50,0)),"") | AB22: =IFERROR(INDEX($D$6:$D$50,MATCH(L22,$A$6:$A$50,0)),"")
A23: 18 | B23: =IF((INDEX(Tracker!$D$5:$D$49,MATCH(Tracker!C22,Workplan!$A$6:$A$50,0)))=0,B22,INDEX(Tracker!$D$5:$D$49,MATCH(Tracker!C22,Workplan!$A$6:$A$50,0))) -> Signage and exit routes | C23: =INDEX(Tracker!$E$5:$E$49,MATCH(Tracker!C22,Workplan!$A$6:$A$50,0)) -> Periodic inspection | D23: =IF(INDEX(Tracker!$L$5:$L$49,MATCH(Tracker!C22,Workplan!$A$6:$A$50,0))=0,"",INDEX(Tracker!$L$5:$L$49,MATCH(Tracker!C22,Workplan!$A$6:$A$50,0))) | E23: =D23<=EDATE(TODAY(),1) -> FALSE | F23: =IF(AND(E23=FALSE,D23<=EDATE(TODAY(),2)),TRUE,FALSE) -> FALSE | G23: =IF(AND(F23=FALSE,E23=FALSE,D23<=EDATE(TODAY(),6)),TRUE,FALSE) -> FALSE | H23: =IF(AND(E23=FALSE,F23=FALSE,G23=FALSE,D23<>""),TRUE,FALSE) -> FALSE | I23: {=IFERROR(INDEX($A$1:$A$94,SMALL(IF($E$1:$E$94,ROW($A$1:$A$94)),ROW(18:18))),"")} | J23: {=IFERROR(INDEX($A$1:$A$94,SMALL(IF($F$1:$F$94,ROW($A$1:$A$94)),ROW(18:18))),"")} | K23: {=IFERROR(INDEX($A$1:$A$94,SMALL(IF($G$1:$G$94,ROW($A$1:$A$94)),ROW(18:18))),"")} | L23: {=IFERROR(INDEX($A$1:$A$94,SMALL(IF($H$1:$H$94,ROW($A$1:$A$94)),ROW(18:18))),"")} | N23: =IFERROR(INDEX($B$6:$B$50,MATCH(I23,$A$6:$A$50,0)),"") | O23: =IFERROR(INDEX($C$6:$C$50,MATCH(I23,$A$6:$A$50,0)),"") | P23: =IFERROR(INDEX($D$6:$D$50,MATCH(I23,$A$6:$A$50,0)),"") | R23: =IFERROR(INDEX($B$6:$B$50,MATCH(J23,$A$6:$A$50,0)),"") | S23: =IFERROR(INDEX($C$6:$C$50,MATCH(J23,$A$6:$A$50,0)),"") | T23: =IFERROR(INDEX($D$6:$D$50,MATCH(J23,$A$6:$A$50,0)),"") | V23: =IFERROR(INDEX($B$6:$B$50,MATCH(K23,$A$6:$A$50,0)),"") | W23: =IFERROR(INDEX($C$6:$C$50,MATCH(K23,$A$6:$A$50,0)),"") | X23: =IFERROR(INDEX($D$6:$D$50,MATCH(K23,$A$6:$A$50,0)),"") | Z23: =IFERROR(INDEX($B$6:$B$50,MATCH(L23,$A$6:$A$50,0)),"") | AA23: =IFERROR(INDEX($C$6:$C$50,MATCH(L23,$A$6:$A$50,0)),"") | AB23: =IFERROR(INDEX($D$6:$D$50,MATCH(L23,$A$6:$A$50,0)),"")
A24: 19 | B24: =IF((INDEX(Tracker!$D$5:$D$49,MATCH(Tracker!C23,Workplan!$A$6:$A$50,0)))=0,B23,INDEX(Tracker!$D$5:$D$49,MATCH(Tracker!C23,Workplan!$A$6:$A$50,0))) -> Lightning protection | C24: =INDEX(Tracker!$E$5:$E$49,MATCH(Tracker!C23,Workplan!$A$6:$A$50,0)) -> Inspection and testing | D24: =IF(INDEX(Tracker!$L$5:$L$49,MATCH(Tracker!C23,Workplan!$A$6:$A$50,0))=0,"",INDEX(Tracker!$L$5:$L$49,MATCH(Tracker!C23,Workplan!$A$6:$A$50,0))) | E24: =D24<=EDATE(TODAY(),1) -> FALSE | F24: =IF(AND(E24=FALSE,D24<=EDATE(TODAY(),2)),TRUE,FALSE) -> FALSE | G24: =IF(AND(F24=FALSE,E24=FALSE,D24<=EDATE(TODAY(),6)),TRUE,FALSE) -> FALSE | H24: =IF(AND(E24=FALSE,F24=FALSE,G24=FALSE,D24<>""),TRUE,FALSE) -> FALSE | I24: {=IFERROR(INDEX($A$1:$A$94,SMALL(IF($E$1:$E$94,ROW($A$1:$A$94)),ROW(19:19))),"")} | J24: {=IFERROR(INDEX($A$1:$A$94,SMALL(IF($F$1:$F$94,ROW($A$1:$A$94)),ROW(19:19))),"")} | K24: {=IFERROR(INDEX($A$1:$A$94,SMALL(IF($G$1:$G$94,ROW($A$1:$A$94)),ROW(19:19))),"")} | L24: {=IFERROR(INDEX($A$1:$A$94,SMALL(IF($H$1:$H$94,ROW($A$1:$A$94)),ROW(19:19))),"")} | N24: =IFERROR(INDEX($B$6:$B$50,MATCH(I24,$A$6:$A$50,0)),"") | O24: =IFERROR(INDEX($C$6:$C$50,MATCH(I24,$A$6:$A$50,0)),"") | P24: =IFERROR(INDEX($D$6:$D$50,MATCH(I24,$A$6:$A$50,0)),"") | R24: =IFERROR(INDEX($B$6:$B$50,MATCH(J24,$A$6:$A$50,0)),"") | S24: =IFERROR(INDEX($C$6:$C$50,MATCH(J24,$A$6:$A$50,0)),"") | T24: =IFERROR(INDEX($D$6:$D$50,MATCH(J24,$A$6:$A$50,0)),"") | V24: =IFERROR(INDEX($B$6:$B$50,MATCH(K24,$A$6:$A$50,0)),"") | W24: =IFERROR(INDEX($C$6:$C$50,MATCH(K24,$A$6:$A$50,0)),"") | X24: =IFERROR(INDEX($D$6:$D$50,MATCH(K24,$A$6:$A$50,0)),"") | Z24: =IFERROR(INDEX($B$6:$B$50,MATCH(L24,$A$6:$A$50,0)),"") | AA24: =IFERROR(INDEX($C$6:$C$50,MATCH(L24,$A$6:$A$50,0)),"") | AB24: =IFERROR(INDEX($D$6:$D$50,MATCH(L24,$A$6:$A$50,0)),"")
A25: 20 | B25: =IF((INDEX(Tracker!$D$5:$D$49,MATCH(Tracker!C24,Workplan!$A$6:$A$50,0)))=0,B24,INDEX(Tracker!$D$5:$D$49,MATCH(Tracker!C24,Workplan!$A$6:$A$50,0))) -> Gas installations | C25: =INDEX(Tracker!$E$5:$E$49,MATCH(Tracker!C24,Workplan!$A$6:$A$50,0)) -> Gas safety inspection and servicing | D25: =IF(INDEX(Tracker!$L$5:$L$49,MATCH(Tracker!C24,Workplan!$A$6:$A$50,0))=0,"",INDEX(Tracker!$L$5:$L$49,MATCH(Tracker!C24,Workplan!$A$6:$A$50,0))) | E25: =D25<=EDATE(TODAY(),1) -> FALSE | F25: =IF(AND(E25=FALSE,D25<=EDATE(TODAY(),2)),TRUE,FALSE) -> FALSE | G25: =IF(AND(F25=FALSE,E25=FALSE,D25<=EDATE(TODAY(),6)),TRUE,FALSE) -> FALSE | H25: =IF(AND(E25=FALSE,F25=FALSE,G25=FALSE,D25<>""),TRUE,FALSE) -> FALSE | I25: {=IFERROR(INDEX($A$1:$A$94,SMALL(IF($E$1:$E$94,ROW($A$1:$A$94)),ROW(20:20))),"")} | J25: {=IFERROR(INDEX($A$1:$A$94,SMALL(IF($F$1:$F$94,ROW($A$1:$A$94)),ROW(20:20))),"")} | K25: {=IFERROR(INDEX($A$1:$A$94,SMALL(IF($G$1:$G$94,ROW($A$1:$A$94)),ROW(20:20))),"")} | L25: {=IFERROR(INDEX($A$1:$A$94,SMALL(IF($H$1:$H$94,ROW($A$1:$A$94)),ROW(20:20))),"")} | N25: =IFERROR(INDEX($B$6:$B$50,MATCH(I25,$A$6:$A$50,0)),"") | O25: =IFERROR(INDEX($C$6:$C$50,MATCH(I25,$A$6:$A$50,0)),"") | P25: =IFERROR(INDEX($D$6:$D$50,MATCH(I25,$A$6:$A$50,0)),"") | R25: =IFERROR(INDEX($B$6:$B$50,MATCH(J25,$A$6:$A$50,0)),"") | S25: =IFERROR(INDEX($C$6:$C$50,MATCH(J25,$A$6:$A$50,0)),"") | T25: =IFERROR(INDEX($D$6:$D$50,MATCH(J25,$A$6:$A$50,0)),"") | V25: =IFERROR(INDEX($B$6:$B$50,MATCH(K25,$A$6:$A$50,0)),"") | W25: =IFERROR(INDEX($C$6:$C$50,MATCH(K25,$A$6:$A$50,0)),"") | X25: =IFERROR(INDEX($D$6:$D$50,MATCH(K25,$A$6:$A$50,0)),"") | Z25: =IFERROR(INDEX($B$6:$B$50,MATCH(L25,$A$6:$A$50,0)),"") | AA25: =IFERROR(INDEX($C$6:$C$50,MATCH(L25,$A$6:$A$50,0)),"") | AB25: =IFERROR(INDEX($D$6:$D$50,MATCH(L25,$A$6:$A$50,0)),"")
A26: 21 | B26: =IF((INDEX(Tracker!$D$5:$D$49,MATCH(Tracker!C25,Workplan!$A$6:$A$50,0)))=0,B25,INDEX(Tracker!$D$5:$D$49,MATCH(Tracker!C25,Workplan!$A$6:$A$50,0))) -> Oil heating | C26: =INDEX(Tracker!$E$5:$E$49,MATCH(Tracker!C25,Workplan!$A$6:$A$50,0)) -> Servicing | D26: =IF(INDEX(Tracker!$L$5:$L$49,MATCH(Tracker!C25,Workplan!$A$6:$A$50,0))=0,"",INDEX(Tracker!$L$5:$L$49,MATCH(Tracker!C25,Workplan!$A$6:$A$50,0))) | E26: =D26<=EDATE(TODAY(),1) -> FALSE | F26: =IF(AND(E26=FALSE,D26<=EDATE(TODAY(),2)),TRUE,FALSE) -> FALSE | G26: =IF(AND(F26=FALSE,E26=FALSE,D26<=EDATE(TODAY(),6)),TRUE,FALSE) -> FALSE | H26: =IF(AND(E26=FALSE,F26=FALSE,G26=FALSE,D26<>""),TRUE,FALSE) -> FALSE | I26: {=IFERROR(INDEX($A$1:$A$94,SMALL(IF($E$1:$E$94,ROW($A$1:$A$94)),ROW(21:21))),"")} | J26: {=IFERROR(INDEX($A$1:$A$94,SMALL(IF($F$1:$F$94,ROW($A$1:$A$94)),ROW(21:21))),"")} | K26: {=IFERROR(INDEX($A$1:$A$94,SMALL(IF($G$1:$G$94,ROW($A$1:$A$94)),ROW(21:21))),"")} | L26: {=IFERROR(INDEX($A$1:$A$94,SMALL(IF($H$1:$H$94,ROW($A$1:$A$94)),ROW(21:21))),"")} | N26: =IFERROR(INDEX($B$6:$B$50,MATCH(I26,$A$6:$A$50,0)),"") | O26: =IFERROR(INDEX($C$6:$C$50,MATCH(I26,$A$6:$A$50,0)),"") | P26: =IFERROR(INDEX($D$6:$D$50,MATCH(I26,$A$6:$A$50,0)),"") | R26: =IFERROR(INDEX($B$6:$B$50,MATCH(J26,$A$6:$A$50,0)),"") | S26: =IFERROR(INDEX($C$6:$C$50,MATCH(J26,$A$6:$A$50,0)),"") | T26: =IFERROR(INDEX($D$6:$D$50,MATCH(J26,$A$6:$A$50,0)),"") | V26: =IFERROR(INDEX($B$6:$B$50,MATCH(K26,$A$6:$A$50,0)),"") | W26: =IFERROR(INDEX($C$6:$C$50,MATCH(K26,$A$6:$A$50,0)),"") | X26: =IFERROR(INDEX($D$6:$D$50,MATCH(K26,$A$6:$A$50,0)),"") | Z26: =IFERROR(INDEX($B$6:$B$50,MATCH(L26,$A$6:$A$50,0)),"") | AA26: =IFERROR(INDEX($C$6:$C$50,MATCH(L26,$A$6:$A$50,0)),"") | AB26: =IFERROR(INDEX($D$6:$D$50,MATCH(L26,$A$6:$A$50,0)),"")
A27: 22 | B27: =IF((INDEX(Tracker!$D$5:$D$49,MATCH(Tracker!C26,Workplan!$A$6:$A$50,0)))=0,B26,INDEX(Tracker!$D$5:$D$49,MATCH(Tracker!C26,Workplan!$A$6:$A$50,0))) -> Oil heating | C27: =INDEX(Tracker!$E$5:$E$49,MATCH(Tracker!C26,Workplan!$A$6:$A$50,0)) -> Visual check of tanks, bunds and pipework | D27: =IF(INDEX(Tracker!$L$5:$L$49,MATCH(Tracker!C26,Workplan!$A$6:$A$50,0))=0,"",INDEX(Tracker!$L$5:$L$49,MATCH(Tracker!C26,Workplan!$A$6:$A$50,0))) | E27: =D27<=EDATE(TODAY(),1) -> FALSE | F27: =IF(AND(E27=FALSE,D27<=EDATE(TODAY(),2)),TRUE,FALSE) -> FALSE | G27: =IF(AND(F27=FALSE,E27=FALSE,D27<=EDATE(TODAY(),6)),TRUE,FALSE) -> FALSE | H27: =IF(AND(E27=FALSE,F27=FALSE,G27=FALSE,D27<>""),TRUE,FALSE) -> FALSE | I27: {=IFERROR(INDEX($A$1:$A$94,SMALL(IF($E$1:$E$94,ROW($A$1:$A$94)),ROW(22:22))),"")} | J27: {=IFERROR(INDEX($A$1:$A$94,SMALL(IF($F$1:$F$94,ROW($A$1:$A$94)),ROW(22:22))),"")} | K27: {=IFERROR(INDEX($A$1:$A$94,SMALL(IF($G$1:$G$94,ROW($A$1:$A$94)),ROW(22:22))),"")} | L27: {=IFERROR(INDEX($A$1:$A$94,SMALL(IF($H$1:$H$94,ROW($A$1:$A$94)),ROW(22:22))),"")} | N27: =IFERROR(INDEX($B$6:$B$50,MATCH(I27,$A$6:$A$50,0)),"") | O27: =IFERROR(INDEX($C$6:$C$50,MATCH(I27,$A$6:$A$50,0)),"") | P27: =IFERROR(INDEX($D$6:$D$50,MATCH(I27,$A$6:$A$50,0)),"") | R27: =IFERROR(INDEX($B$6:$B$50,MATCH(J27,$A$6:$A$50,0)),"") | S27: =IFERROR(INDEX($C$6:$C$50,MATCH(J27,$A$6:$A$50,0)),"") | T27: =IFERROR(INDEX($D$6:$D$50,MATCH(J27,$A$6:$A$50,0)),"") | V27: =IFERROR(INDEX($B$6:$B$50,MATCH(K27,$A$6:$A$50,0)),"") | W27: =IFERROR(INDEX($C$6:$C$50,MATCH(K27,$A$6:$A$50,0)),"") | X27: =IFERROR(INDEX($D$6:$D$50,MATCH(K27,$A$6:$A$50,0)),"") | Z27: =IFERROR(INDEX($B$6:$B$50,MATCH(L27,$A$6:$A$50,0)),"") | AA27: =IFERROR(INDEX($C$6:$C$50,MATCH(L27,$A$6:$A$50,0)),"") | AB27: =IFERROR(INDEX($D$6:$D$50,MATCH(L27,$A$6:$A$50,0)),"")
A28: 23 | B28: =IF((INDEX(Tracker!$D$5:$D$49,MATCH(Tracker!C27,Workplan!$A$6:$A$50,0)))=0,B27,INDEX(Tracker!$D$5:$D$49,MATCH(Tracker!C27,Workplan!$A$6:$A$50,0))) -> Oil heating | C28: =INDEX(Tracker!$E$5:$E$49,MATCH(Tracker!C27,Workplan!$A$6:$A$50,0)) -> Inspection for damage | D28: =IF(INDEX(Tracker!$L$5:$L$49,MATCH(Tracker!C27,Workplan!$A$6:$A$50,0))=0,"",INDEX(Tracker!$L$5:$L$49,MATCH(Tracker!C27,Workplan!$A$6:$A$50,0))) | E28: =D28<=EDATE(TODAY(),1) -> FALSE | F28: =IF(AND(E28=FALSE,D28<=EDATE(TODAY(),2)),TRUE,FALSE) -> FALSE | G28: =IF(AND(F28=FALSE,E28=FALSE,D28<=EDATE(TODAY(),6)),TRUE,FALSE) -> FALSE | H28: =IF(AND(E28=FALSE,F28=FALSE,G28=FALSE,D28<>""),TRUE,FALSE) -> FALSE | I28: {=IFERROR(INDEX($A$1:$A$94,SMALL(IF($E$1:$E$94,ROW($A$1:$A$94)),ROW(23:23))),"")} | J28: {=IFERROR(INDEX($A$1:$A$94,SMALL(IF($F$1:$F$94,ROW($A$1:$A$94)),ROW(23:23))),"")} | K28: {=IFERROR(INDEX($A$1:$A$94,SMALL(IF($G$1:$G$94,ROW($A$1:$A$94)),ROW(23:23))),"")} | L28: {=IFERROR(INDEX($A$1:$A$94,SMALL(IF($H$1:$H$94,ROW($A$1:$A$94)),ROW(23:23))),"")} | N28: =IFERROR(INDEX($B$6:$B$50,MATCH(I28,$A$6:$A$50,0)),"") | O28: =IFERROR(INDEX($C$6:$C$50,MATCH(I28,$A$6:$A$50,0)),"") | P28: =IFERROR(INDEX($D$6:$D$50,MATCH(I28,$A$6:$A$50,0)),"") | R28: =IFERROR(INDEX($B$6:$B$50,MATCH(J28,$A$6:$A$50,0)),"") | S28: =IFERROR(INDEX($C$6:$C$50,MATCH(J28,$A$6:$A$50,0)),"") | T28: =IFERROR(INDEX($D$6:$D$50,MATCH(J28,$A$6:$A$50,0)),"") | V28: =IFERROR(INDEX($B$6:$B$50,MATCH(K28,$A$6:$A$50,0)),"") | W28: =IFERROR(INDEX($C$6:$C$50,MATCH(K28,$A$6:$A$50,0)),"") | X28: =IFERROR(INDEX($D$6:$D$50,MATCH(K28,$A$6:$A$50,0)),"") | Z28: =IFERROR(INDEX($B$6:$B$50,MATCH(L28,$A$6:$A$50,0)),"") | AA28: =IFERROR(INDEX($C$6:$C$50,MATCH(L28,$A$6:$A$50,0)),"") | AB28: =IFERROR(INDEX($D$6:$D$50,MATCH(L28,$A$6:$A$50,0)),"")
A29: 24 | B29: =IF((INDEX(Tracker!$D$5:$D$49,MATCH(Tracker!C28,Workplan!$A$6:$A$50,0)))=0,B28,INDEX(Tracker!$D$5:$D$49,MATCH(Tracker!C28,Workplan!$A$6:$A$50,0))) -> Other heating equipment (biomass/groundsource/airsource/heat recovery) | C29: =INDEX(Tracker!$E$5:$E$49,MATCH(Tracker!C28,Workplan!$A$6:$A$50,0)) -> Servicing | D29: =IF(INDEX(Tracker!$L$5:$L$49,MATCH(Tracker!C28,Workplan!$A$6:$A$50,0))=0,"",INDEX(Tracker!$L$5:$L$49,MATCH(Tracker!C28,Workplan!$A$6:$A$50,0))) | E29: =D29<=EDATE(TODAY(),1) -> FALSE | F29: =IF(AND(E29=FALSE,D29<=EDATE(TODAY(),2)),TRUE,FALSE) -> FALSE | G29: =IF(AND(F29=FALSE,E29=FALSE,D29<=EDATE(TODAY(),6)),TRUE,FALSE) -> FALSE | H29: =IF(AND(E29=FALSE,F29=FALSE,G29=FALSE,D29<>""),TRUE,FALSE) -> FALSE | I29: {=IFERROR(INDEX($A$1:$A$94,SMALL(IF($E$1:$E$94,ROW($A$1:$A$94)),ROW(24:24))),"")} | J29: {=IFERROR(INDEX($A$1:$A$94,SMALL(IF($F$1:$F$94,ROW($A$1:$A$94)),ROW(24:24))),"")} | K29: {=IFERROR(INDEX($A$1:$A$94,SMALL(IF($G$1:$G$94,ROW($A$1:$A$94)),ROW(24:24))),"")} | L29: {=IFERROR(INDEX($A$1:$A$94,SMALL(IF($H$1:$H$94,ROW($A$1:$A$94)),ROW(24:24))),"")} | N29: =IFERROR(INDEX($B$6:$B$50,MATCH(I29,$A$6:$A$50,0)),"") | O29: =IFERROR(INDEX($C$6:$C$50,MATCH(I29,$A$6:$A$50,0)),"") | P29: =IFERROR(INDEX($D$6:$D$50,MATCH(I29,$A$6:$A$50,0)),"") | R29: =IFERROR(INDEX($B$6:$B$50,MATCH(J29,$A$6:$A$50,0)),"") | S29: =IFERROR(INDEX($C$6:$C$50,MATCH(J29,$A$6:$A$50,0)),"") | T29: =IFERROR(INDEX($D$6:$D$50,MATCH(J29,$A$6:$A$50,0)),"") | V29: =IFERROR(INDEX($B$6:$B$50,MATCH(K29,$A$6:$A$50,0)),"") | W29: =IFERROR(INDEX($C$6:$C$50,MATCH(K29,$A$6:$A$50,0)),"") | X29: =IFERROR(INDEX($D$6:$D$50,MATCH(K29,$A$6:$A$50,0)),"") | Z29: =IFERROR(INDEX($B$6:$B$50,MATCH(L29,$A$6:$A$50,0)),"") | AA29: =IFERROR(INDEX($C$6:$C$50,MATCH(L29,$A$6:$A$50,0)),"") | AB29: =IFERROR(INDEX($D$6:$D$50,MATCH(L29,$A$6:$A$50,0)),"")
A30: 25 | B30: =IF((INDEX(Tracker!$D$5:$D$49,MATCH(Tracker!C29,Workplan!$A$6:$A$50,0)))=0,B29,INDEX(Tracker!$D$5:$D$49,MATCH(Tracker!C29,Workplan!$A$6:$A$50,0))) -> Ventilation | C30: =INDEX(Tracker!$E$5:$E$49,MATCH(Tracker!C29,Workplan!$A$6:$A$50,0)) -> Filter and duct inspection/cleaning | D30: =IF(INDEX(Tracker!$L$5:$L$49,MATCH(Tracker!C29,Workplan!$A$6:$A$50,0))=0,"",INDEX(Tracker!$L$5:$L$49,MATCH(Tracker!C29,Workplan!$A$6:$A$50,0))) | E30: =D30<=EDATE(TODAY(),1) -> FALSE | F30: =IF(AND(E30=FALSE,D30<=EDATE(TODAY(),2)),TRUE,FALSE) -> FALSE | G30: =IF(AND(F30=FALSE,E30=FALSE,D30<=EDATE(TODAY(),6)),TRUE,FALSE) -> FALSE | H30: =IF(AND(E30=FALSE,F30=FALSE,G30=FALSE,D30<>""),TRUE,FALSE) -> FALSE | I30: {=IFERROR(INDEX($A$1:$A$94,SMALL(IF($E$1:$E$94,ROW($A$1:$A$94)),ROW(25:25))),"")} | J30: {=IFERROR(INDEX($A$1:$A$94,SMALL(IF($F$1:$F$94,ROW($A$1:$A$94)),ROW(25:25))),"")} | K30: {=IFERROR(INDEX($A$1:$A$94,SMALL(IF($G$1:$G$94,ROW($A$1:$A$94)),ROW(25:25))),"")} | L30: {=IFERROR(INDEX($A$1:$A$94,SMALL(IF($H$1:$H$94,ROW($A$1:$A$94)),ROW(25:25))),"")} | N30: =IFERROR(INDEX($B$6:$B$50,MATCH(I30,$A$6:$A$50,0)),"") | O30: =IFERROR(INDEX($C$6:$C$50,MATCH(I30,$A$6:$A$50,0)),"") | P30: =IFERROR(INDEX($D$6:$D$50,MATCH(I30,$A$6:$A$50,0)),"") | R30: =IFERROR(INDEX($B$6:$B$50,MATCH(J30,$A$6:$A$50,0)),"") | S30: =IFERROR(INDEX($C$6:$C$50,MATCH(J30,$A$6:$A$50,0)),"") | T30: =IFERROR(INDEX($D$6:$D$50,MATCH(J30,$A$6:$A$50,0)),"") | V30: =IFERROR(INDEX($B$6:$B$50,MATCH(K30,$A$6:$A$50,0)),"") | W30: =IFERROR(INDEX($C$6:$C$50,MATCH(K30,$A$6:$A$50,0)),"") | X30: =IFERROR(INDEX($D$6:$D$50,MATCH(K30,$A$6:$A$50,0)),"") | Z30: =IFERROR(INDEX($B$6:$B$50,MATCH(L30,$A$6:$A$50,0)),"") | AA30: =IFERROR(INDEX($C$6:$C$50,MATCH(L30,$A$6:$A$50,0)),"") | AB30: =IFERROR(INDEX($D$6:$D$50,MATCH(L30,$A$6:$A$50,0)),"")
A31: 26 | B31: =IF((INDEX(Tracker!$D$5:$D$49,MATCH(Tracker!C30,Workplan!$A$6:$A$50,0)))=0,B30,INDEX(Tracker!$D$5:$D$49,MATCH(Tracker!C30,Workplan!$A$6:$A$50,0))) -> Radiators and fan convectors | C31: =INDEX(Tracker!$E$5:$E$49,MATCH(Tracker!C30,Workplan!$A$6:$A$50,0)) -> System inspection and test | D31: =IF(INDEX(Tracker!$L$5:$L$49,MATCH(Tracker!C30,Workplan!$A$6:$A$50,0))=0,"",INDEX(Tracker!$L$5:$L$49,MATCH(Tracker!C30,Workplan!$A$6:$A$50,0))) | E31: =D31<=EDATE(TODAY(),1) -> FALSE | F31: =IF(AND(E31=FALSE,D31<=EDATE(TODAY(),2)),TRUE,FALSE) -> FALSE | G31: =IF(AND(F31=FALSE,E31=FALSE,D31<=EDATE(TODAY(),6)),TRUE,FALSE) -> FALSE | H31: =IF(AND(E31=FALSE,F31=FALSE,G31=FALSE,D31<>""),TRUE,FALSE) -> FALSE | I31: {=IFERROR(INDEX($A$1:$A$94,SMALL(IF($E$1:$E$94,ROW($A$1:$A$94)),ROW(26:26))),"")} | J31: {=IFERROR(INDEX($A$1:$A$94,SMALL(IF($F$1:$F$94,ROW($A$1:$A$94)),ROW(26:26))),"")} | K31: {=IFERROR(INDEX($A$1:$A$94,SMALL(IF($G$1:$G$94,ROW($A$1:$A$94)),ROW(26:26))),"")} | L31: {=IFERROR(INDEX($A$1:$A$94,SMALL(IF($H$1:$H$94,ROW($A$1:$A$94)),ROW(26:26))),"")} | N31: =IFERROR(INDEX($B$6:$B$50,MATCH(I31,$A$6:$A$50,0)),"") | O31: =IFERROR(INDEX($C$6:$C$50,MATCH(I31,$A$6:$A$50,0)),"") | P31: =IFERROR(INDEX($D$6:$D$50,MATCH(I31,$A$6:$A$50,0)),"") | R31: =IFERROR(INDEX($B$6:$B$50,MATCH(J31,$A$6:$A$50,0)),"") | S31: =IFERROR(INDEX($C$6:$C$50,MATCH(J31,$A$6:$A$50,0)),"") | T31: =IFERROR(INDEX($D$6:$D$50,MATCH(J31,$A$6:$A$50,0)),"") | V31: =IFERROR(INDEX($B$6:$B$50,MATCH(K31,$A$6:$A$50,0)),"") | W31: =IFERROR(INDEX($C$6:$C$50,MATCH(K31,$A$6:$A$50,0)),"") | X31: =IFERROR(INDEX($D$6:$D$50,MATCH(K31,$A$6:$A$50,0)),"") | Z31: =IFERROR(INDEX($B$6:$B$50,MATCH(L31,$A$6:$A$50,0)),"") | AA31: =IFERROR(INDEX($C$6:$C$50,MATCH(L31,$A$6:$A$50,0)),"") | AB31: =IFERROR(INDEX($D$6:$D$50,MATCH(L31,$A$6:$A$50,0)),"")
A32: 27 | B32: =IF((INDEX(Tracker!$D$5:$D$49,MATCH(Tracker!C31,Workplan!$A$6:$A$50,0)))=0,B31,INDEX(Tracker!$D$5:$D$49,MATCH(Tracker!C31,Workplan!$A$6:$A$50,0))) -> Hot water temperature | C32: =INDEX(Tracker!$E$5:$E$49,MATCH(Tracker!C31,Workplan!$A$6:$A$50,0)) -> Testing regime | D32: =IF(INDEX(Tracker!$L$5:$L$49,MATCH(Tracker!C31,Workplan!$A$6:$A$50,0))=0,"",INDEX(Tracker!$L$5:$L$49,MATCH(Tracker!C31,Workplan!$A$6:$A$50,0))) | E32: =D32<=EDATE(TODAY(),1) -> FALSE | F32: =IF(AND(E32=FALSE,D32<=EDATE(TODAY(),2)),TRUE,FALSE) -> FALSE | G32: =IF(AND(F32=FALSE,E32=FALSE,D32<=EDATE(TODAY(),6)),TRUE,FALSE) -> FALSE | H32: =IF(AND(E32=FALSE,F32=FALSE,G32=FALSE,D32<>""),TRUE,FALSE) -> FALSE | I32: {=IFERROR(INDEX($A$1:$A$94,SMALL(IF($E$1:$E$94,ROW($A$1:$A$94)),ROW(27:27))),"")} | J32: {=IFERROR(INDEX($A$1:$A$94,SMALL(IF($F$1:$F$94,ROW($A$1:$A$94)),ROW(27:27))),"")} | K32: {=IFERROR(INDEX($A$1:$A$94,SMALL(IF($G$1:$G$94,ROW($A$1:$A$94)),ROW(27:27))),"")} | L32: {=IFERROR(INDEX($A$1:$A$94,SMALL(IF($H$1:$H$94,ROW($A$1:$A$94)),ROW(27:27))),"")} | N32: =IFERROR(INDEX($B$6:$B$50,MATCH(I32,$A$6:$A$50,0)),"") | O32: =IFERROR(INDEX($C$6:$C$50,MATCH(I32,$A$6:$A$50,0)),"") | P32: =IFERROR(INDEX($D$6:$D$50,MATCH(I32,$A$6:$A$50,0)),"") | R32: =IFERROR(INDEX($B$6:$B$50,MATCH(J32,$A$6:$A$50,0)),"") | S32: =IFERROR(INDEX($C$6:$C$50,MATCH(J32,$A$6:$A$50,0)),"") | T32: =IFERROR(INDEX($D$6:$D$50,MATCH(J32,$A$6:$A$50,0)),"") | V32: =IFERROR(INDEX($B$6:$B$50,MATCH(K32,$A$6:$A$50,0)),"") | W32: =IFERROR(INDEX($C$6:$C$50,MATCH(K32,$A$6:$A$50,0)),"") | X32: =IFERROR(INDEX($D$6:$D$50,MATCH(K32,$A$6:$A$50,0)),"") | Z32: =IFERROR(INDEX($B$6:$B$50,MATCH(L32,$A$6:$A$50,0)),"") | AA32: =IFERROR(INDEX($C$6:$C$50,MATCH(L32,$A$6:$A$50,0)),"") | AB32: =IFERROR(INDEX($D$6:$D$50,MATCH(L32,$A$6:$A$50,0)),"")
A33: 28 | B33: =IF((INDEX(Tracker!$D$5:$D$49,MATCH(Tracker!C32,Workplan!$A$6:$A$50,0)))=0,B32,INDEX(Tracker!$D$5:$D$49,MATCH(Tracker!C32,Workplan!$A$6:$A$50,0))) -> Local exhaust ventilation | C33: =INDEX(Tracker!$E$5:$E$49,MATCH(Tracker!C32,Workplan!$A$6:$A$50,0)) -> Inspection and testing | D33: =IF(INDEX(Tracker!$L$5:$L$49,MATCH(Tracker!C32,Workplan!$A$6:$A$50,0))=0,"",INDEX(Tracker!$L$5:$L$49,MATCH(Tracker!C32,Workplan!$A$6:$A$50,0))) | E33: =D33<=EDATE(TODAY(),1) -> FALSE | F33: =IF(AND(E33=FALSE,D33<=EDATE(TODAY(),2)),TRUE,FALSE) -> FALSE | G33: =IF(AND(F33=FALSE,E33=FALSE,D33<=EDATE(TODAY(),6)),TRUE,FALSE) -> FALSE | H33: =IF(AND(E33=FALSE,F33=FALSE,G33=FALSE,D33<>""),TRUE,FALSE) -> FALSE | I33: {=IFERROR(INDEX($A$1:$A$94,SMALL(IF($E$1:$E$94,ROW($A$1:$A$94)),ROW(28:28))),"")} | J33: {=IFERROR(INDEX($A$1:$A$94,SMALL(IF($F$1:$F$94,ROW($A$1:$A$94)),ROW(28:28))),"")} | K33: {=IFERROR(INDEX($A$1:$A$94,SMALL(IF($G$1:$G$94,ROW($A$1:$A$94)),ROW(28:28))),"")} | L33: {=IFERROR(INDEX($A$1:$A$94,SMALL(IF($H$1:$H$94,ROW($A$1:$A$94)),ROW(28:28))),"")} | N33: =IFERROR(INDEX($B$6:$B$50,MATCH(I33,$A$6:$A$50,0)),"") | O33: =IFERROR(INDEX($C$6:$C$50,MATCH(I33,$A$6:$A$50,0)),"") | P33: =IFERROR(INDEX($D$6:$D$50,MATCH(I33,$A$6:$A$50,0)),"") | R33: =IFERROR(INDEX($B$6:$B$50,MATCH(J33,$A$6:$A$50,0)),"") | S33: =IFERROR(INDEX($C$6:$C$50,MATCH(J33,$A$6:$A$50,0)),"") | T33: =IFERROR(INDEX($D$6:$D$50,MATCH(J33,$A$6:$A$50,0)),"") | V33: =IFERROR(INDEX($B$6:$B$50,MATCH(K33,$A$6:$A$50,0)),"") | W33: =IFERROR(INDEX($C$6:$C$50,MATCH(K33,$A$6:$A$50,0)),"") | X33: =IFERROR(INDEX($D$6:$D$50,MATCH(K33,$A$6:$A$50,0)),"") | Z33: =IFERROR(INDEX($B$6:$B$50,MATCH(L33,$A$6:$A$50,0)),"") | AA33: =IFERROR(INDEX($C$6:$C$50,MATCH(L33,$A$6:$A$50,0)),"") | AB33: =IFERROR(INDEX($D$6:$D$50,MATCH(L33,$A$6:$A$50,0)),"")
A34: 29 | B34: =IF((INDEX(Tracker!$D$5:$D$49,MATCH(Tracker!C33,Workplan!$A$6:$A$50,0)))=0,B33,INDEX(Tracker!$D$5:$D$49,MATCH(Tracker!C33,Workplan!$A$6:$A$50,0))) -> Legionella | C34: =INDEX(Tracker!$E$5:$E$49,MATCH(Tracker!C33,Workplan!$A$6:$A$50,0)) -> Testing, cleaning and risk assessment | D34: =IF(INDEX(Tracker!$L$5:$L$49,MATCH(Tracker!C33,Workplan!$A$6:$A$50,0))=0,"",INDEX(Tracker!$L$5:$L$49,MATCH(Tracker!C33,Workplan!$A$6:$A$50,0))) | E34: =D34<=EDATE(TODAY(),1) -> FALSE | F34: =IF(AND(E34=FALSE,D34<=EDATE(TODAY(),2)),TRUE,FALSE) -> FALSE | G34: =IF(AND(F34=FALSE,E34=FALSE,D34<=EDATE(TODAY(),6)),TRUE,FALSE) -> FALSE | H34: =IF(AND(E34=FALSE,F34=FALSE,G34=FALSE,D34<>""),TRUE,FALSE) -> FALSE | I34: {=IFERROR(INDEX($A$1:$A$94,SMALL(IF($E$1:$E$94,ROW($A$1:$A$94)),ROW(29:29))),"")} | J34: {=IFERROR(INDEX($A$1:$A$94,SMALL(IF($F$1:$F$94,ROW($A$1:$A$94)),ROW(29:29))),"")} | K34: {=IFERROR(INDEX($A$1:$A$94,SMALL(IF($G$1:$G$94,ROW($A$1:$A$94)),ROW(29:29))),"")} | L34: {=IFERROR(INDEX($A$1:$A$94,SMALL(IF($H$1:$H$94,ROW($A$1:$A$94)),ROW(29:29))),"")} | N34: =IFERROR(INDEX($B$6:$B$50,MATCH(I34,$A$6:$A$50,0)),"") | O34: =IFERROR(INDEX($C$6:$C$50,MATCH(I34,$A$6:$A$50,0)),"") | P34: =IFERROR(INDEX($D$6:$D$50,MATCH(I34,$A$6:$A$50,0)),"") | R34: =IFERROR(INDEX($B$6:$B$50,MATCH(J34,$A$6:$A$50,0)),"") | S34: =IFERROR(INDEX($C$6:$C$50,MATCH(J34,$A$6:$A$50,0)),"") | T34: =IFERROR(INDEX($D$6:$D$50,MATCH(J34,$A$6:$A$50,0)),"") | V34: =IFERROR(INDEX($B$6:$B$50,MATCH(K34,$A$6:$A$50,0)),"") | W34: =IFERROR(INDEX($C$6:$C$50,MATCH(K34,$A$6:$A$50,0)),"") | X34: =IFERROR(INDEX($D$6:$D$50,MATCH(K34,$A$6:$A$50,0)),"") | Z34: =IFERROR(INDEX($B$6:$B$50,MATCH(L34,$A$6:$A$50,0)),"") | AA34: =IFERROR(INDEX($C$6:$C$50,MATCH(L34,$A$6:$A$50,0)),"") | AB34: =IFERROR(INDEX($D$6:$D$50,MATCH(L34,$A$6:$A$50,0)),"")
A35: 30 | B35: =IF((INDEX(Tracker!$D$5:$D$49,MATCH(Tracker!C34,Workplan!$A$6:$A$50,0)))=0,B34,INDEX(Tracker!$D$5:$D$49,MATCH(Tracker!C34,Workplan!$A$6:$A$50,0))) -> Air conditioning | C35: =INDEX(Tracker!$E$5:$E$49,MATCH(Tracker!C34,Workplan!$A$6:$A$50,0)) -> Checks and maintenance | D35: =IF(INDEX(Tracker!$L$5:$L$49,MATCH(Tracker!C34,Workplan!$A$6:$A$50,0))=0,"",INDEX(Tracker!$L$5:$L$49,MATCH(Tracker!C34,Workplan!$A$6:$A$50,0))) | E35: =D35<=EDATE(TODAY(),1) -> FALSE | F35: =IF(AND(E35=FALSE,D35<=EDATE(TODAY(),2)),TRUE,FALSE) -> FALSE | G35: =IF(AND(F35=FALSE,E35=FALSE,D35<=EDATE(TODAY(),6)),TRUE,FALSE) -> FALSE | H35: =IF(AND(E35=FALSE,F35=FALSE,G35=FALSE,D35<>""),TRUE,FALSE) -> FALSE | I35: {=IFERROR(INDEX($A$1:$A$94,SMALL(IF($E$1:$E$94,ROW($A$1:$A$94)),ROW(30:30))),"")} | J35: {=IFERROR(INDEX($A$1:$A$94,SMALL(IF($F$1:$F$94,ROW($A$1:$A$94)),ROW(30:30))),"")} | K35: {=IFERROR(INDEX($A$1:$A$94,SMALL(IF($G$1:$G$94,ROW($A$1:$A$94)),ROW(30:30))),"")} | L35: {=IFERROR(INDEX($A$1:$A$94,SMALL(IF($H$1:$H$94,ROW($A$1:$A$94)),ROW(30:30))),"")} | N35: =IFERROR(INDEX($B$6:$B$50,MATCH(I35,$A$6:$A$50,0)),"") | O35: =IFERROR(INDEX($C$6:$C$50,MATCH(I35,$A$6:$A$50,0)),"") | P35: =IFERROR(INDEX($D$6:$D$50,MATCH(I35,$A$6:$A$50,0)),"") | R35: =IFERROR(INDEX($B$6:$B$50,MATCH(J35,$A$6:$A$50,0)),"") | S35: =IFERROR(INDEX($C$6:$C$50,MATCH(J35,$A$6:$A$50,0)),"") | T35: =IFERROR(INDEX($D$6:$D$50,MATCH(J35,$A$6:$A$50,0)),"") | V35: =IFERROR(INDEX($B$6:$B$50,MATCH(K35,$A$6:$A$50,0)),"") | W35: =IFERROR(INDEX($C$6:$C$50,MATCH(K35,$A$6:$A$50,0)),"") | X35: =IFERROR(INDEX($D$6:$D$50,MATCH(K35,$A$6:$A$50,0)),"") | Z35: =IFERROR(INDEX($B$6:$B$50,MATCH(L35,$A$6:$A$50,0)),"") | AA35: =IFERROR(INDEX($C$6:$C$50,MATCH(L35,$A$6:$A$50,0)),"") | AB35: =IFERROR(INDEX($D$6:$D$50,MATCH(L35,$A$6:$A$50,0)),"")
A36: 31 | B36: =IF((INDEX(Tracker!$D$5:$D$49,MATCH(Tracker!C35,Workplan!$A$6:$A$50,0)))=0,B35,INDEX(Tracker!$D$5:$D$49,MATCH(Tracker!C35,Workplan!$A$6:$A$50,0))) -> Portable appliance testing | C36: =INDEX(Tracker!$E$5:$E$49,MATCH(Tracker!C35,Workplan!$A$6:$A$50,0)) -> Equipment test | D36: =IF(INDEX(Tracker!$L$5:$L$49,MATCH(Tracker!C35,Workplan!$A$6:$A$50,0))=0,"",INDEX(Tracker!$L$5:$L$49,MATCH(Tracker!C35,Workplan!$A$6:$A$50,0))) | E36: =D36<=EDATE(TODAY(),1) -> FALSE | F36: =IF(AND(E36=FALSE,D36<=EDATE(TODAY(),2)),TRUE,FALSE) -> FALSE | G36: =IF(AND(F36=FALSE,E36=FALSE,D36<=EDATE(TODAY(),6)),TRUE,FALSE) -> FALSE | H36: =IF(AND(E36=FALSE,F36=FALSE,G36=FALSE,D36<>""),TRUE,FALSE) -> FALSE | I36: {=IFERROR(INDEX($A$1:$A$94,SMALL(IF($E$1:$E$94,ROW($A$1:$A$94)),ROW(31:31))),"")} | J36: {=IFERROR(INDEX($A$1:$A$94,SMALL(IF($F$1:$F$94,ROW($A$1:$A$94)),ROW(31:31))),"")} | K36: {=IFERROR(INDEX($A$1:$A$94,SMALL(IF($G$1:$G$94,ROW($A$1:$A$94)),ROW(31:31))),"")} | L36: {=IFERROR(INDEX($A$1:$A$94,SMALL(IF($H$1:$H$94,ROW($A$1:$A$94)),ROW(31:31))),"")} | N36: =IFERROR(INDEX($B$6:$B$50,MATCH(I36,$A$6:$A$50,0)),"") | O36: =IFERROR(INDEX($C$6:$C$50,MATCH(I36,$A$6:$A$50,0)),"") | P36: =IFERROR(INDEX($D$6:$D$50,MATCH(I36,$A$6:$A$50,0)),"") | R36: =IFERROR(INDEX($B$6:$B$50,MATCH(J36,$A$6:$A$50,0)),"") | S36: =IFERROR(INDEX($C$6:$C$50,MATCH(J36,$A$6:$A$50,0)),"") | T36: =IFERROR(INDEX($D$6:$D$50,MATCH(J36,$A$6:$A$50,0)),"") | V36: =IFERROR(INDEX($B$6:$B$50,MATCH(K36,$A$6:$A$50,0)),"") | W36: =IFERROR(INDEX($C$6:$C$50,MATCH(K36,$A$6:$A$50,0)),"") | X36: =IFERROR(INDEX($D$6:$D$50,MATCH(K36,$A$6:$A$50,0)),"") | Z36: =IFERROR(INDEX($B$6:$B$50,MATCH(L36,$A$6:$A$50,0)),"") | AA36: =IFERROR(INDEX($C$6:$C$50,MATCH(L36,$A$6:$A$50,0)),"") | AB36: =IFERROR(INDEX($D$6:$D$50,MATCH(L36,$A$6:$A$50,0)),"")
A37: 32 | B37: =IF((INDEX(Tracker!$D$5:$D$49,MATCH(Tracker!C36,Workplan!$A$6:$A$50,0)))=0,B36,INDEX(Tracker!$D$5:$D$49,MATCH(Tracker!C36,Workplan!$A$6:$A$50,0))) -> Fixed electrical supply/installation | C37: =INDEX(Tracker!$E$5:$E$49,MATCH(Tracker!C36,Workplan!$A$6:$A$50,0)) -> Inspection and test | D37: =IF(INDEX(Tracker!$L$5:$L$49,MATCH(Tracker!C36,Workplan!$A$6:$A$50,0))=0,"",INDEX(Tracker!$L$5:$L$49,MATCH(Tracker!C36,Workplan!$A$6:$A$50,0))) | E37: =D37<=EDATE(TODAY(),1) -> FALSE | F37: =IF(AND(E37=FALSE,D37<=EDATE(TODAY(),2)),TRUE,FALSE) -> FALSE | G37: =IF(AND(F37=FALSE,E37=FALSE,D37<=EDATE(TODAY(),6)),TRUE,FALSE) -> FALSE | H37: =IF(AND(E37=FALSE,F37=FALSE,G37=FALSE,D37<>""),TRUE,FALSE) -> FALSE | I37: {=IFERROR(INDEX($A$1:$A$94,SMALL(IF($E$1:$E$94,ROW($A$1:$A$94)),ROW(32:32))),"")} | J37: {=IFERROR(INDEX($A$1:$A$94,SMALL(IF($F$1:$F$94,ROW($A$1:$A$94)),ROW(32:32))),"")} | K37: {=IFERROR(INDEX($A$1:$A$94,SMALL(IF($G$1:$G$94,ROW($A$1:$A$94)),ROW(32:32))),"")} | L37: {=IFERROR(INDEX($A$1:$A$94,SMALL(IF($H$1:$H$94,ROW($A$1:$A$94)),ROW(32:32))),"")} | N37: =IFERROR(INDEX($B$6:$B$50,MATCH(I37,$A$6:$A$50,0)),"") | O37: =IFERROR(INDEX($C$6:$C$50,MATCH(I37,$A$6:$A$50,0)),"") | P37: =IFERROR(INDEX($D$6:$D$50,MATCH(I37,$A$6:$A$50,0)),"") | R37: =IFERROR(INDEX($B$6:$B$50,MATCH(J37,$A$6:$A$50,0)),"") | S37: =IFERROR(INDEX($C$6:$C$50,MATCH(J37,$A$6:$A$50,0)),"") | T37: =IFERROR(INDEX($D$6:$D$50,MATCH(J37,$A$6:$A$50,0)),"") | V37: =IFERROR(INDEX($B$6:$B$50,MATCH(K37,$A$6:$A$50,0)),"") | W37: =IFERROR(INDEX($C$6:$C$50,MATCH(K37,$A$6:$A$50,0)),"") | X37: =IFERROR(INDEX($D$6:$D$50,MATCH(K37,$A$6:$A$50,0)),"") | Z37: =IFERROR(INDEX($B$6:$B$50,MATCH(L37,$A$6:$A$50,0)),"") | AA37: =IFERROR(INDEX($C$6:$C$50,MATCH(L37,$A$6:$A$50,0)),"") | AB37: =IFERROR(INDEX($D$6:$D$50,MATCH(L37,$A$6:$A$50,0)),"")
A38: 33 | B38: =IF((INDEX(Tracker!$D$5:$D$49,MATCH(Tracker!C37,Workplan!$A$6:$A$50,0)))=0,B37,INDEX(Tracker!$D$5:$D$49,MATCH(Tracker!C37,Workplan!$A$6:$A$50,0))) -> Lighting | C38: =INDEX(Tracker!$E$5:$E$49,MATCH(Tracker!C37,Workplan!$A$6:$A$50,0)) -> Operational test | D38: =IF(INDEX(Tracker!$L$5:$L$49,MATCH(Tracker!C37,Workplan!$A$6:$A$50,0))=0,"",INDEX(Tracker!$L$5:$L$49,MATCH(Tracker!C37,Workplan!$A$6:$A$50,0))) | E38: =D38<=EDATE(TODAY(),1) -> FALSE | F38: =IF(AND(E38=FALSE,D38<=EDATE(TODAY(),2)),TRUE,FALSE) -> FALSE | G38: =IF(AND(F38=FALSE,E38=FALSE,D38<=EDATE(TODAY(),6)),TRUE,FALSE) -> FALSE | H38: =IF(AND(E38=FALSE,F38=FALSE,G38=FALSE,D38<>""),TRUE,FALSE) -> FALSE | I38: {=IFERROR(INDEX($A$1:$A$94,SMALL(IF($E$1:$E$94,ROW($A$1:$A$94)),ROW(33:33))),"")} | J38: {=IFERROR(INDEX($A$1:$A$94,SMALL(IF($F$1:$F$94,ROW($A$1:$A$94)),ROW(33:33))),"")} | K38: {=IFERROR(INDEX($A$1:$A$94,SMALL(IF($G$1:$G$94,ROW($A$1:$A$94)),ROW(33:33))),"")} | L38: {=IFERROR(INDEX($A$1:$A$94,SMALL(IF($H$1:$H$94,ROW($A$1:$A$94)),ROW(33:33))),"")} | N38: =IFERROR(INDEX($B$6:$B$50,MATCH(I38,$A$6:$A$50,0)),"") | O38: =IFERROR(INDEX($C$6:$C$50,MATCH(I38,$A$6:$A$50,0)),"") | P38: =IFERROR(INDEX($D$6:$D$50,MATCH(I38,$A$6:$A$50,0)),"") | R38: =IFERROR(INDEX($B$6:$B$50,MATCH(J38,$A$6:$A$50,0)),"") | S38: =IFERROR(INDEX($C$6:$C$50,MATCH(J38,$A$6:$A$50,0)),"") | T38: =IFERROR(INDEX($D$6:$D$50,MATCH(J38,$A$6:$A$50,0)),"") | V38: =IFERROR(INDEX($B$6:$B$50,MATCH(K38,$A$6:$A$50,0)),"") | W38: =IFERROR(INDEX($C$6:$C$50,MATCH(K38,$A$6:$A$50,0)),"") | X38: =IFERROR(INDEX($D$6:$D$50,MATCH(K38,$A$6:$A$50,0)),"") | Z38: =IFERROR(INDEX($B$6:$B$50,MATCH(L38,$A$6:$A$50,0)),"") | AA38: =IFERROR(INDEX($C$6:$C$50,MATCH(L38,$A$6:$A$50,0)),"") | AB38: =IFERROR(INDEX($D$6:$D$50,MATCH(L38,$A$6:$A$50,0)),"")
A39: 34 | B39: =IF((INDEX(Tracker!$D$5:$D$49,MATCH(Tracker!C38,Workplan!$A$6:$A$50,0)))=0,B38,INDEX(Tracker!$D$5:$D$49,MATCH(Tracker!C38,Workplan!$A$6:$A$50,0))) -> Perimeter security | C39: =INDEX(Tracker!$E$5:$E$49,MATCH(Tracker!C38,Workplan!$A$6:$A$50,0)) -> Perimeter inspection | D39: =IF(INDEX(Tracker!$L$5:$L$49,MATCH(Tracker!C38,Workplan!$A$6:$A$50,0))=0,"",INDEX(Tracker!$L$5:$L$49,MATCH(Tracker!C38,Workplan!$A$6:$A$50,0))) | E39: =D39<=EDATE(TODAY(),1) -> FALSE | F39: =IF(AND(E39=FALSE,D39<=EDATE(TODAY(),2)),TRUE,FALSE) -> FALSE | G39: =IF(AND(F39=FALSE,E39=FALSE,D39<=EDATE(TODAY(),6)),TRUE,FALSE) -> FALSE | H39: =IF(AND(E39=FALSE,F39=FALSE,G39=FALSE,D39<>""),TRUE,FALSE) -> FALSE | I39: {=IFERROR(INDEX($A$1:$A$94,SMALL(IF($E$1:$E$94,ROW($A$1:$A$94)),ROW(34:34))),"")} | J39: {=IFERROR(INDEX($A$1:$A$94,SMALL(IF($F$1:$F$94,ROW($A$1:$A$94)),ROW(34:34))),"")} | K39: {=IFERROR(INDEX($A$1:$A$94,SMALL(IF($G$1:$G$94,ROW($A$1:$A$94)),ROW(34:34))),"")} | L39: {=IFERROR(INDEX($A$1:$A$94,SMALL(IF($H$1:$H$94,ROW($A$1:$A$94)),ROW(34:34))),"")} | N39: =IFERROR(INDEX($B$6:$B$50,MATCH(I39,$A$6:$A$50,0)),"") | O39: =IFERROR(INDEX($C$6:$C$50,MATCH(I39,$A$6:$A$50,0)),"") | P39: =IFERROR(INDEX($D$6:$D$50,MATCH(I39,$A$6:$A$50,0)),"") | R39: =IFERROR(INDEX($B$6:$B$50,MATCH(J39,$A$6:$A$50,0)),"") | S39: =IFERROR(INDEX($C$6:$C$50,MATCH(J39,$A$6:$A$50,0)),"") | T39: =IFERROR(INDEX($D$6:$D$50,MATCH(J39,$A$6:$A$50,0)),"") | V39: =IFERROR(INDEX($B$6:$B$50,MATCH(K39,$A$6:$A$50,0)),"") | W39: =IFERROR(INDEX($C$6:$C$50,MATCH(K39,$A$6:$A$50,0)),"") | X39: =IFERROR(INDEX($D$6:$D$50,MATCH(K39,$A$6:$A$50,0)),"") | Z39: =IFERROR(INDEX($B$6:$B$50,MATCH(L39,$A$6:$A$50,0)),"") | AA39: =IFERROR(INDEX($C$6:$C$50,MATCH(L39,$A$6:$A$50,0)),"") | AB39: =IFERROR(INDEX($D$6:$D$50,MATCH(L39,$A$6:$A$50,0)),"")
A40: 35 | B40: =IF((INDEX(Tracker!$D$5:$D$49,MATCH(Tracker!C39,Workplan!$A$6:$A$50,0)))=0,B39,INDEX(Tracker!$D$5:$D$49,MATCH(Tracker!C39,Workplan!$A$6:$A$50,0))) -> Access routes, gates, roadways and parking | C40: =INDEX(Tracker!$E$5:$E$49,MATCH(Tracker!C39,Workplan!$A$6:$A$50,0)) -> Review and inspection | D40: =IF(INDEX(Tracker!$L$5:$L$49,MATCH(Tracker!C39,Workplan!$A$6:$A$50,0))=0,"",INDEX(Tracker!$L$5:$L$49,MATCH(Tracker!C39,Workplan!$A$6:$A$50,0))) | E40: =D40<=EDATE(TODAY(),1) -> FALSE | F40: =IF(AND(E40=FALSE,D40<=EDATE(TODAY(),2)),TRUE,FALSE) -> FALSE | G40: =IF(AND(F40=FALSE,E40=FALSE,D40<=EDATE(TODAY(),6)),TRUE,FALSE) -> FALSE | H40: =IF(AND(E40=FALSE,F40=FALSE,G40=FALSE,D40<>""),TRUE,FALSE) -> FALSE | I40: {=IFERROR(INDEX($A$1:$A$94,SMALL(IF($E$1:$E$94,ROW($A$1:$A$94)),ROW(35:35))),"")} | J40: {=IFERROR(INDEX($A$1:$A$94,SMALL(IF($F$1:$F$94,ROW($A$1:$A$94)),ROW(35:35))),"")} | K40: {=IFERROR(INDEX($A$1:$A$94,SMALL(IF($G$1:$G$94,ROW($A$1:$A$94)),ROW(35:35))),"")} | L40: {=IFERROR(INDEX($A$1:$A$94,SMALL(IF($H$1:$H$94,ROW($A$1:$A$94)),ROW(35:35))),"")} | N40: =IFERROR(INDEX($B$6:$B$50,MATCH(I40,$A$6:$A$50,0)),"") | O40: =IFERROR(INDEX($C$6:$C$50,MATCH(I40,$A$6:$A$50,0)),"") | P40: =IFERROR(INDEX($D$6:$D$50,MATCH(I40,$A$6:$A$50,0)),"") | R40: =IFERROR(INDEX($B$6:$B$50,MATCH(J40,$A$6:$A$50,0)),"") | S40: =IFERROR(INDEX($C$6:$C$50,MATCH(J40,$A$6:$A$50,0)),"") | T40: =IFERROR(INDEX($D$6:$D$50,MATCH(J40,$A$6:$A$50,0)),"") | V40: =IFERROR(INDEX($B$6:$B$50,MATCH(K40,$A$6:$A$50,0)),"") | W40: =IFERROR(INDEX($C$6:$C$50,MATCH(K40,$A$6:$A$50,0)),"") | X40: =IFERROR(INDEX($D$6:$D$50,MATCH(K40,$A$6:$A$50,0)),"") | Z40: =IFERROR(INDEX($B$6:$B$50,MATCH(L40,$A$6:$A$50,0)),"") | AA40: =IFERROR(INDEX($C$6:$C$50,MATCH(L40,$A$6:$A$50,0)),"") | AB40: =IFERROR(INDEX($D$6:$D$50,MATCH(L40,$A$6:$A$50,0)),"")
A41: 36 | B41: =IF((INDEX(Tracker!$D$5:$D$49,MATCH(Tracker!C40,Workplan!$A$6:$A$50,0)))=0,B40,INDEX(Tracker!$D$5:$D$49,MATCH(Tracker!C40,Workplan!$A$6:$A$50,0))) -> Trees | C41: =INDEX(Tracker!$E$5:$E$49,MATCH(Tracker!C40,Workplan!$A$6:$A$50,0)) -> Inspection | D41: =IF(INDEX(Tracker!$L$5:$L$49,MATCH(Tracker!C40,Workplan!$A$6:$A$50,0))=0,"",INDEX(Tracker!$L$5:$L$49,MATCH(Tracker!C40,Workplan!$A$6:$A$50,0))) | E41: =D41<=EDATE(TODAY(),1) -> FALSE | F41: =IF(AND(E41=FALSE,D41<=EDATE(TODAY(),2)),TRUE,FALSE) -> FALSE | G41: =IF(AND(F41=FALSE,E41=FALSE,D41<=EDATE(TODAY(),6)),TRUE,FALSE) -> FALSE | H41: =IF(AND(E41=FALSE,F41=FALSE,G41=FALSE,D41<>""),TRUE,FALSE) -> FALSE | I41: {=IFERROR(INDEX($A$1:$A$94,SMALL(IF($E$1:$E$94,ROW($A$1:$A$94)),ROW(36:36))),"")} | J41: {=IFERROR(INDEX($A$1:$A$94,SMALL(IF($F$1:$F$94,ROW($A$1:$A$94)),ROW(36:36))),"")} | K41: {=IFERROR(INDEX($A$1:$A$94,SMALL(IF($G$1:$G$94,ROW($A$1:$A$94)),ROW(36:36))),"")} | L41: {=IFERROR(INDEX($A$1:$A$94,SMALL(IF($H$1:$H$94,ROW($A$1:$A$94)),ROW(36:36))),"")} | N41: =IFERROR(INDEX($B$6:$B$50,MATCH(I41,$A$6:$A$50,0)),"") | O41: =IFERROR(INDEX($C$6:$C$50,MATCH(I41,$A$6:$A$50,0)),"") | P41: =IFERROR(INDEX($D$6:$D$50,MATCH(I41,$A$6:$A$50,0)),"") | R41: =IFERROR(INDEX($B$6:$B$50,MATCH(J41,$A$6:$A$50,0)),"") | S41: =IFERROR(INDEX($C$6:$C$50,MATCH(J41,$A$6:$A$50,0)),"") | T41: =IFERROR(INDEX($D$6:$D$50,MATCH(J41,$A$6:$A$50,0)),"") | V41: =IFERROR(INDEX($B$6:$B$50,MATCH(K41,$A$6:$A$50,0)),"") | W41: =IFERROR(INDEX($C$6:$C$50,MATCH(K41,$A$6:$A$50,0)),"") | X41: =IFERROR(INDEX($D$6:$D$50,MATCH(K41,$A$6:$A$50,0)),"") | Z41: =IFERROR(INDEX($B$6:$B$50,MATCH(L41,$A$6:$A$50,0)),"") | AA41: =IFERROR(INDEX($C$6:$C$50,MATCH(L41,$A$6:$A$50,0)),"") | AB41: =IFERROR(INDEX($D$6:$D$50,MATCH(L41,$A$6:$A$50,0)),"")
A42: 37 | B42: =IF((INDEX(Tracker!$D$5:$D$49,MATCH(Tracker!C41,Workplan!$A$6:$A$50,0)))=0,B41,INDEX(Tracker!$D$5:$D$49,MATCH(Tracker!C41,Workplan!$A$6:$A$50,0))) -> Trees | C42: =INDEX(Tracker!$E$5:$E$49,MATCH(Tracker!C41,Workplan!$A$6:$A$50,0)) -> Risk assessment review | D42: =IF(INDEX(Tracker!$L$5:$L$49,MATCH(Tracker!C41,Workplan!$A$6:$A$50,0))=0,"",INDEX(Tracker!$L$5:$L$49,MATCH(Tracker!C41,Workplan!$A$6:$A$50,0))) | E42: =D42<=EDATE(TODAY(),1) -> FALSE | F42: =IF(AND(E42=FALSE,D42<=EDATE(TODAY(),2)),TRUE,FALSE) -> FALSE | G42: =IF(AND(F42=FALSE,E42=FALSE,D42<=EDATE(TODAY(),6)),TRUE,FALSE) -> FALSE | H42: =IF(AND(E42=FALSE,F42=FALSE,G42=FALSE,D42<>""),TRUE,FALSE) -> FALSE | I42: {=IFERROR(INDEX($A$1:$A$94,SMALL(IF($E$1:$E$94,ROW($A$1:$A$94)),ROW(37:37))),"")} | J42: {=IFERROR(INDEX($A$1:$A$94,SMALL(IF($F$1:$F$94,ROW($A$1:$A$94)),ROW(37:37))),"")} | K42: {=IFERROR(INDEX($A$1:$A$94,SMALL(IF($G$1:$G$94,ROW($A$1:$A$94)),ROW(37:37))),"")} | L42: {=IFERROR(INDEX($A$1:$A$94,SMALL(IF($H$1:$H$94,ROW($A$1:$A$94)),ROW(37:37))),"")} | N42: =IFERROR(INDEX($B$6:$B$50,MATCH(I42,$A$6:$A$50,0)),"") | O42: =IFERROR(INDEX($C$6:$C$50,MATCH(I42,$A$6:$A$50,0)),"") | P42: =IFERROR(INDEX($D$6:$D$50,MATCH(I42,$A$6:$A$50,0)),"") | R42: =IFERROR(INDEX($B$6:$B$50,MATCH(J42,$A$6:$A$50,0)),"") | S42: =IFERROR(INDEX($C$6:$C$50,MATCH(J42,$A$6:$A$50,0)),"") | T42: =IFERROR(INDEX($D$6:$D$50,MATCH(J42,$A$6:$A$50,0)),"") | V42: =IFERROR(INDEX($B$6:$B$50,MATCH(K42,$A$6:$A$50,0)),"") | W42: =IFERROR(INDEX($C$6:$C$50,MATCH(K42,$A$6:$A$50,0)),"") | X42: =IFERROR(INDEX($D$6:$D$50,MATCH(K42,$A$6:$A$50,0)),"") | Z42: =IFERROR(INDEX($B$6:$B$50,MATCH(L42,$A$6:$A$50,0)),"") | AA42: =IFERROR(INDEX($C$6:$C$50,MATCH(L42,$A$6:$A$50,0)),"") | AB42: =IFERROR(INDEX($D$6:$D$50,MATCH(L42,$A$6:$A$50,0)),"")
A43: 38 | B43: =IF((INDEX(Tracker!$D$5:$D$49,MATCH(Tracker!C42,Workplan!$A$6:$A$50,0)))=0,B42,INDEX(Tracker!$D$5:$D$49,MATCH(Tracker!C42,Workplan!$A$6:$A$50,0))) -> Radon | C43: =INDEX(Tracker!$E$5:$E$49,MATCH(Tracker!C42,Workplan!$A$6:$A$50,0)) -> Review risk assessment and management arrangements | D43: =IF(INDEX(Tracker!$L$5:$L$49,MATCH(Tracker!C42,Workplan!$A$6:$A$50,0))=0,"",INDEX(Tracker!$L$5:$L$49,MATCH(Tracker!C42,Workplan!$A$6:$A$50,0))) | E43: =D43<=EDATE(TODAY(),1) -> FALSE | F43: =IF(AND(E43=FALSE,D43<=EDATE(TODAY(),2)),TRUE,FALSE) -> FALSE | G43: =IF(AND(F43=FALSE,E43=FALSE,D43<=EDATE(TODAY(),6)),TRUE,FALSE) -> FALSE | H43: =IF(AND(E43=FALSE,F43=FALSE,G43=FALSE,D43<>""),TRUE,FALSE) -> FALSE | I43: {=IFERROR(INDEX($A$1:$A$94,SMALL(IF($E$1:$E$94,ROW($A$1:$A$94)),ROW(38:38))),"")} | J43: {=IFERROR(INDEX($A$1:$A$94,SMALL(IF($F$1:$F$94,ROW($A$1:$A$94)),ROW(38:38))),"")} | K43: {=IFERROR(INDEX($A$1:$A$94,SMALL(IF($G$1:$G$94,ROW($A$1:$A$94)),ROW(38:38))),"")} | L43: {=IFERROR(INDEX($A$1:$A$94,SMALL(IF($H$1:$H$94,ROW($A$1:$A$94)),ROW(38:38))),"")} | N43: =IFERROR(INDEX($B$6:$B$50,MATCH(I43,$A$6:$A$50,0)),"") | O43: =IFERROR(INDEX($C$6:$C$50,MATCH(I43,$A$6:$A$50,0)),"") | P43: =IFERROR(INDEX($D$6:$D$50,MATCH(I43,$A$6:$A$50,0)),"") | R43: =IFERROR(INDEX($B$6:$B$50,MATCH(J43,$A$6:$A$50,0)),"") | S43: =IFERROR(INDEX($C$6:$C$50,MATCH(J43,$A$6:$A$50,0)),"") | T43: =IFERROR(INDEX($D$6:$D$50,MATCH(J43,$A$6:$A$50,0)),"") | V43: =IFERROR(INDEX($B$6:$B$50,MATCH(K43,$A$6:$A$50,0)),"") | W43: =IFERROR(INDEX($C$6:$C$50,MATCH(K43,$A$6:$A$50,0)),"") | X43: =IFERROR(INDEX($D$6:$D$50,MATCH(K43,$A$6:$A$50,0)),"") | Z43: =IFERROR(INDEX($B$6:$B$50,MATCH(L43,$A$6:$A$50,0)),"") | AA43: =IFERROR(INDEX($C$6:$C$50,MATCH(L43,$A$6:$A$50,0)),"") | AB43: =IFERROR(INDEX($D$6:$D$50,MATCH(L43,$A$6:$A$50,0)),"")
A44: 39 | B44: =IF((INDEX(Tracker!$D$5:$D$49,MATCH(Tracker!C43,Workplan!$A$6:$A$50,0)))=0,B43,INDEX(Tracker!$D$5:$D$49,MATCH(Tracker!C43,Workplan!$A$6:$A$50,0))) -> Lifts and lifting equipment | C44: =INDEX(Tracker!$E$5:$E$49,MATCH(Tracker!C43,Workplan!$A$6:$A$50,0)) -> Statutory inspection | D44: =IF(INDEX(Tracker!$L$5:$L$49,MATCH(Tracker!C43,Workplan!$A$6:$A$50,0))=0,"",INDEX(Tracker!$L$5:$L$49,MATCH(Tracker!C43,Workplan!$A$6:$A$50,0))) | E44: =D44<=EDATE(TODAY(),1) -> FALSE | F44: =IF(AND(E44=FALSE,D44<=EDATE(TODAY(),2)),TRUE,FALSE) -> FALSE | G44: =IF(AND(F44=FALSE,E44=FALSE,D44<=EDATE(TODAY(),6)),TRUE,FALSE) -> FALSE | H44: =IF(AND(E44=FALSE,F44=FALSE,G44=FALSE,D44<>""),TRUE,FALSE) -> FALSE | I44: {=IFERROR(INDEX($A$1:$A$94,SMALL(IF($E$1:$E$94,ROW($A$1:$A$94)),ROW(39:39))),"")} | J44: {=IFERROR(INDEX($A$1:$A$94,SMALL(IF($F$1:$F$94,ROW($A$1:$A$94)),ROW(39:39))),"")} | K44: {=IFERROR(INDEX($A$1:$A$94,SMALL(IF($G$1:$G$94,ROW($A$1:$A$94)),ROW(39:39))),"")} | L44: {=IFERROR(INDEX($A$1:$A$94,SMALL(IF($H$1:$H$94,ROW($A$1:$A$94)),ROW(39:39))),"")} | N44: =IFERROR(INDEX($B$6:$B$50,MATCH(I44,$A$6:$A$50,0)),"") | O44: =IFERROR(INDEX($C$6:$C$50,MATCH(I44,$A$6:$A$50,0)),"") | P44: =IFERROR(INDEX($D$6:$D$50,MATCH(I44,$A$6:$A$50,0)),"") | R44: =IFERROR(INDEX($B$6:$B$50,MATCH(J44,$A$6:$A$50,0)),"") | S44: =IFERROR(INDEX($C$6:$C$50,MATCH(J44,$A$6:$A$50,0)),"") | T44: =IFERROR(INDEX($D$6:$D$50,MATCH(J44,$A$6:$A$50,0)),"") | V44: =IFERROR(INDEX($B$6:$B$50,MATCH(K44,$A$6:$A$50,0)),"") | W44: =IFERROR(INDEX($C$6:$C$50,MATCH(K44,$A$6:$A$50,0)),"") | X44: =IFERROR(INDEX($D$6:$D$50,MATCH(K44,$A$6:$A$50,0)),"") | Z44: =IFERROR(INDEX($B$6:$B$50,MATCH(L44,$A$6:$A$50,0)),"") | AA44: =IFERROR(INDEX($C$6:$C$50,MATCH(L44,$A$6:$A$50,0)),"") | AB44: =IFERROR(INDEX($D$6:$D$50,MATCH(L44,$A$6:$A$50,0)),"")
A45: 40 | B45: =IF((INDEX(Tracker!$D$5:$D$49,MATCH(Tracker!C44,Workplan!$A$6:$A$50,0)))=0,B44,INDEX(Tracker!$D$5:$D$49,MATCH(Tracker!C44,Workplan!$A$6:$A$50,0))) -> Lifts and lifting equipment | C45: =INDEX(Tracker!$E$5:$E$49,MATCH(Tracker!C44,Workplan!$A$6:$A$50,0)) -> Emergency alarm test | D45: =IF(INDEX(Tracker!$L$5:$L$49,MATCH(Tracker!C44,Workplan!$A$6:$A$50,0))=0,"",INDEX(Tracker!$L$5:$L$49,MATCH(Tracker!C44,Workplan!$A$6:$A$50,0))) | E45: =D45<=EDATE(TODAY(),1) -> FALSE | F45: =IF(AND(E45=FALSE,D45<=EDATE(TODAY(),2)),TRUE,FALSE) -> FALSE | G45: =IF(AND(F45=FALSE,E45=FALSE,D45<=EDATE(TODAY(),6)),TRUE,FALSE) -> FALSE | H45: =IF(AND(E45=FALSE,F45=FALSE,G45=FALSE,D45<>""),TRUE,FALSE) -> FALSE | I45: {=IFERROR(INDEX($A$1:$A$94,SMALL(IF($E$1:$E$94,ROW($A$1:$A$94)),ROW(40:40))),"")} | J45: {=IFERROR(INDEX($A$1:$A$94,SMALL(IF($F$1:$F$94,ROW($A$1:$A$94)),ROW(40:40))),"")} | K45: {=IFERROR(INDEX($A$1:$A$94,SMALL(IF($G$1:$G$94,ROW($A$1:$A$94)),ROW(40:40))),"")} | L45: {=IFERROR(INDEX($A$1:$A$94,SMALL(IF($H$1:$H$94,ROW($A$1:$A$94)),ROW(40:40))),"")} | N45: =IFERROR(INDEX($B$6:$B$50,MATCH(I45,$A$6:$A$50,0)),"") | O45: =IFERROR(INDEX($C$6:$C$50,MATCH(I45,$A$6:$A$50,0)),"") | P45: =IFERROR(INDEX($D$6:$D$50,MATCH(I45,$A$6:$A$50,0)),"") | R45: =IFERROR(INDEX($B$6:$B$50,MATCH(J45,$A$6:$A$50,0)),"") | S45: =IFERROR(INDEX($C$6:$C$50,MATCH(J45,$A$6:$A$50,0)),"") | T45: =IFERROR(INDEX($D$6:$D$50,MATCH(J45,$A$6:$A$50,0)),"") | V45: =IFERROR(INDEX($B$6:$B$50,MATCH(K45,$A$6:$A$50,0)),"") | W45: =IFERROR(INDEX($C$6:$C$50,MATCH(K45,$A$6:$A$50,0)),"") | X45: =IFERROR(INDEX($D$6:$D$50,MATCH(K45,$A$6:$A$50,0)),"") | Z45: =IFERROR(INDEX($B$6:$B$50,MATCH(L45,$A$6:$A$50,0)),"") | AA45: =IFERROR(INDEX($C$6:$C$50,MATCH(L45,$A$6:$A$50,0)),"") | AB45: =IFERROR(INDEX($D$6:$D$50,MATCH(L45,$A$6:$A$50,0)),"")
A46: 41 | B46: =IF((INDEX(Tracker!$D$5:$D$49,MATCH(Tracker!C45,Workplan!$A$6:$A$50,0)))=0,B45,INDEX(Tracker!$D$5:$D$49,MATCH(Tracker!C45,Workplan!$A$6:$A$50,0))) -> Gym and playground equipment | C46: =INDEX(Tracker!$E$5:$E$49,MATCH(Tracker!C45,Workplan!$A$6:$A$50,0)) -> Inspection | D46: =IF(INDEX(Tracker!$L$5:$L$49,MATCH(Tracker!C45,Workplan!$A$6:$A$50,0))=0,"",INDEX(Tracker!$L$5:$L$49,MATCH(Tracker!C45,Workplan!$A$6:$A$50,0))) | E46: =D46<=EDATE(TODAY(),1) -> FALSE | F46: =IF(AND(E46=FALSE,D46<=EDATE(TODAY(),2)),TRUE,FALSE) -> FALSE | G46: =IF(AND(F46=FALSE,E46=FALSE,D46<=EDATE(TODAY(),6)),TRUE,FALSE) -> FALSE | H46: =IF(AND(E46=FALSE,F46=FALSE,G46=FALSE,D46<>""),TRUE,FALSE) -> FALSE | I46: {=IFERROR(INDEX($A$1:$A$94,SMALL(IF($E$1:$E$94,ROW($A$1:$A$94)),ROW(41:41))),"")} | J46: {=IFERROR(INDEX($A$1:$A$94,SMALL(IF($F$1:$F$94,ROW($A$1:$A$94)),ROW(41:41))),"")} | K46: {=IFERROR(INDEX($A$1:$A$94,SMALL(IF($G$1:$G$94,ROW($A$1:$A$94)),ROW(41:41))),"")} | L46: {=IFERROR(INDEX($A$1:$A$94,SMALL(IF($H$1:$H$94,ROW($A$1:$A$94)),ROW(41:41))),"")} | N46: =IFERROR(INDEX($B$6:$B$50,MATCH(I46,$A$6:$A$50,0)),"") | O46: =IFERROR(INDEX($C$6:$C$50,MATCH(I46,$A$6:$A$50,0)),"") | P46: =IFERROR(INDEX($D$6:$D$50,MATCH(I46,$A$6:$A$50,0)),"") | R46: =IFERROR(INDEX($B$6:$B$50,MATCH(J46,$A$6:$A$50,0)),"") | S46: =IFERROR(INDEX($C$6:$C$50,MATCH(J46,$A$6:$A$50,0)),"") | T46: =IFERROR(INDEX($D$6:$D$50,MATCH(J46,$A$6:$A$50,0)),"") | V46: =IFERROR(INDEX($B$6:$B$50,MATCH(K46,$A$6:$A$50,0)),"") | W46: =IFERROR(INDEX($C$6:$C$50,MATCH(K46,$A$6:$A$50,0)),"") | X46: =IFERROR(INDEX($D$6:$D$50,MATCH(K46,$A$6:$A$50,0)),"") | Z46: =IFERROR(INDEX($B$6:$B$50,MATCH(L46,$A$6:$A$50,0)),"") | AA46: =IFERROR(INDEX($C$6:$C$50,MATCH(L46,$A$6:$A$50,0)),"") | AB46: =IFERROR(INDEX($D$6:$D$50,MATCH(L46,$A$6:$A$50,0)),"")
A47: 42 | B47: =IF((INDEX(Tracker!$D$5:$D$49,MATCH(Tracker!C46,Workplan!$A$6:$A$50,0)))=0,B46,INDEX(Tracker!$D$5:$D$49,MATCH(Tracker!C46,Workplan!$A$6:$A$50,0))) -> Swimming pools and hydrotherapy pools | C47: =INDEX(Tracker!$E$5:$E$49,MATCH(Tracker!C46,Workplan!$A$6:$A$50,0)) -> Inspection and test, water and plant | D47: =IF(INDEX(Tracker!$L$5:$L$49,MATCH(Tracker!C46,Workplan!$A$6:$A$50,0))=0,"",INDEX(Tracker!$L$5:$L$49,MATCH(Tracker!C46,Workplan!$A$6:$A$50,0))) | E47: =D47<=EDATE(TODAY(),1) -> FALSE | F47: =IF(AND(E47=FALSE,D47<=EDATE(TODAY(),2)),TRUE,FALSE) -> FALSE | G47: =IF(AND(F47=FALSE,E47=FALSE,D47<=EDATE(TODAY(),6)),TRUE,FALSE) -> FALSE | H47: =IF(AND(E47=FALSE,F47=FALSE,G47=FALSE,D47<>""),TRUE,FALSE) -> FALSE | I47: {=IFERROR(INDEX($A$1:$A$94,SMALL(IF($E$1:$E$94,ROW($A$1:$A$94)),ROW(42:42))),"")} | J47: {=IFERROR(INDEX($A$1:$A$94,SMALL(IF($F$1:$F$94,ROW($A$1:$A$94)),ROW(42:42))),"")} | K47: {=IFERROR(INDEX($A$1:$A$94,SMALL(IF($G$1:$G$94,ROW($A$1:$A$94)),ROW(42:42))),"")} | L47: {=IFERROR(INDEX($A$1:$A$94,SMALL(IF($H$1:$H$94,ROW($A$1:$A$94)),ROW(42:42))),"")} | N47: =IFERROR(INDEX($B$6:$B$50,MATCH(I47,$A$6:$A$50,0)),"") | O47: =IFERROR(INDEX($C$6:$C$50,MATCH(I47,$A$6:$A$50,0)),"") | P47: =IFERROR(INDEX($D$6:$D$50,MATCH(I47,$A$6:$A$50,0)),"") | R47: =IFERROR(INDEX($B$6:$B$50,MATCH(J47,$A$6:$A$50,0)),"") | S47: =IFERROR(INDEX($C$6:$C$50,MATCH(J47,$A$6:$A$50,0)),"") | T47: =IFERROR(INDEX($D$6:$D$50,MATCH(J47,$A$6:$A$50,0)),"") | V47: =IFERROR(INDEX($B$6:$B$50,MATCH(K47,$A$6:$A$50,0)),"") | W47: =IFERROR(INDEX($C$6:$C$50,MATCH(K47,$A$6:$A$50,0)),"") | X47: =IFERROR(INDEX($D$6:$D$50,MATCH(K47,$A$6:$A$50,0)),"") | Z47: =IFERROR(INDEX($B$6:$B$50,MATCH(L47,$A$6:$A$50,0)),"") | AA47: =IFERROR(INDEX($C$6:$C$50,MATCH(L47,$A$6:$A$50,0)),"") | AB47: =IFERROR(INDEX($D$6:$D$50,MATCH(L47,$A$6:$A$50,0)),"")
A48: 43 | B48: =IF((INDEX(Tracker!$D$5:$D$49,MATCH(Tracker!C47,Workplan!$A$6:$A$50,0)))=0,B47,INDEX(Tracker!$D$5:$D$49,MATCH(Tracker!C47,Workplan!$A$6:$A$50,0))) -> Pressure systems | C48: =INDEX(Tracker!$E$5:$E$49,MATCH(Tracker!C47,Workplan!$A$6:$A$50,0)) -> Maintenance and inspection | D48: =IF(INDEX(Tracker!$L$5:$L$49,MATCH(Tracker!C47,Workplan!$A$6:$A$50,0))=0,"",INDEX(Tracker!$L$5:$L$49,MATCH(Tracker!C47,Workplan!$A$6:$A$50,0))) | E48: =D48<=EDATE(TODAY(),1) -> FALSE | F48: =IF(AND(E48=FALSE,D48<=EDATE(TODAY(),2)),TRUE,FALSE) -> FALSE | G48: =IF(AND(F48=FALSE,E48=FALSE,D48<=EDATE(TODAY(),6)),TRUE,FALSE) -> FALSE | H48: =IF(AND(E48=FALSE,F48=FALSE,G48=FALSE,D48<>""),TRUE,FALSE) -> FALSE | I48: {=IFERROR(INDEX($A$1:$A$94,SMALL(IF($E$1:$E$94,ROW($A$1:$A$94)),ROW(43:43))),"")} | J48: {=IFERROR(INDEX($A$1:$A$94,SMALL(IF($F$1:$F$94,ROW($A$1:$A$94)),ROW(43:43))),"")} | K48: {=IFERROR(INDEX($A$1:$A$94,SMALL(IF($G$1:$G$94,ROW($A$1:$A$94)),ROW(43:43))),"")} | L48: {=IFERROR(INDEX($A$1:$A$94,SMALL(IF($H$1:$H$94,ROW($A$1:$A$94)),ROW(43:43))),"")} | N48: =IFERROR(INDEX($B$6:$B$50,MATCH(I48,$A$6:$A$50,0)),"") | O48: =IFERROR(INDEX($C$6:$C$50,MATCH(I48,$A$6:$A$50,0)),"") | P48: =IFERROR(INDEX($D$6:$D$50,MATCH(I48,$A$6:$A$50,0)),"") | R48: =IFERROR(INDEX($B$6:$B$50,MATCH(J48,$A$6:$A$50,0)),"") | S48: =IFERROR(INDEX($C$6:$C$50,MATCH(J48,$A$6:$A$50,0)),"") | T48: =IFERROR(INDEX($D$6:$D$50,MATCH(J48,$A$6:$A$50,0)),"") | V48: =IFERROR(INDEX($B$6:$B$50,MATCH(K48,$A$6:$A$50,0)),"") | W48: =IFERROR(INDEX($C$6:$C$50,MATCH(K48,$A$6:$A$50,0)),"") | X48: =IFERROR(INDEX($D$6:$D$50,MATCH(K48,$A$6:$A$50,0)),"") | Z48: =IFERROR(INDEX($B$6:$B$50,MATCH(L48,$A$6:$A$50,0)),"") | AA48: =IFERROR(INDEX($C$6:$C$50,MATCH(L48,$A$6:$A$50,0)),"") | AB48: =IFERROR(INDEX($D$6:$D$50,MATCH(L48,$A$6:$A$50,0)),"")
A49: 44 | B49: =IF((INDEX(Tracker!$D$5:$D$49,MATCH(Tracker!C48,Workplan!$A$6:$A$50,0)))=0,B48,INDEX(Tracker!$D$5:$D$49,MATCH(Tracker!C48,Workplan!$A$6:$A$50,0))) -> Gas cylinders | C49: =INDEX(Tracker!$E$5:$E$49,MATCH(Tracker!C48,Workplan!$A$6:$A$50,0)) -> Inspection | D49: =IF(INDEX(Tracker!$L$5:$L$49,MATCH(Tracker!C48,Workplan!$A$6:$A$50,0))=0,"",INDEX(Tracker!$L$5:$L$49,MATCH(Tracker!C48,Workplan!$A$6:$A$50,0))) | E49: =D49<=EDATE(TODAY(),1) -> FALSE | F49: =IF(AND(E49=FALSE,D49<=EDATE(TODAY(),2)),TRUE,FALSE) -> FALSE | G49: =IF(AND(F49=FALSE,E49=FALSE,D49<=EDATE(TODAY(),6)),TRUE,FALSE) -> FALSE | H49: =IF(AND(E49=FALSE,F49=FALSE,G49=FALSE,D49<>""),TRUE,FALSE) -> FALSE | I49: {=IFERROR(INDEX($A$1:$A$94,SMALL(IF($E$1:$E$94,ROW($A$1:$A$94)),ROW(44:44))),"")} | J49: {=IFERROR(INDEX($A$1:$A$94,SMALL(IF($F$1:$F$94,ROW($A$1:$A$94)),ROW(44:44))),"")} | K49: {=IFERROR(INDEX($A$1:$A$94,SMALL(IF($G$1:$G$94,ROW($A$1:$A$94)),ROW(44:44))),"")} | L49: {=IFERROR(INDEX($A$1:$A$94,SMALL(IF($H$1:$H$94,ROW($A$1:$A$94)),ROW(44:44))),"")} | N49: =IFERROR(INDEX($B$6:$B$50,MATCH(I49,$A$6:$A$50,0)),"") | O49: =IFERROR(INDEX($C$6:$C$50,MATCH(I49,$A$6:$A$50,0)),"") | P49: =IFERROR(INDEX($D$6:$D$50,MATCH(I49,$A$6:$A$50,0)),"") | R49: =IFERROR(INDEX($B$6:$B$50,MATCH(J49,$A$6:$A$50,0)),"") | S49: =IFERROR(INDEX($C$6:$C$50,MATCH(J49,$A$6:$A$50,0)),"") | T49: =IFERROR(INDEX($D$6:$D$50,MATCH(J49,$A$6:$A$50,0)),"") | V49: =IFERROR(INDEX($B$6:$B$50,MATCH(K49,$A$6:$A$50,0)),"") | W49: =IFERROR(INDEX($C$6:$C$50,MATCH(K49,$A$6:$A$50,0)),"") | X49: =IFERROR(INDEX($D$6:$D$50,MATCH(K49,$A$6:$A$50,0)),"") | Z49: =IFERROR(INDEX($B$6:$B$50,MATCH(L49,$A$6:$A$50,0)),"") | AA49: =IFERROR(INDEX($C$6:$C$50,MATCH(L49,$A$6:$A$50,0)),"") | AB49: =IFERROR(INDEX($D$6:$D$50,MATCH(L49,$A$6:$A$50,0)),"")
A50: 45 | B50: =IF((INDEX(Tracker!$D$5:$D$49,MATCH(Tracker!C49,Workplan!$A$6:$A$50,0)))=0,B49,INDEX(Tracker!$D$5:$D$49,MATCH(Tracker!C49,Workplan!$A$6:$A$50,0))) -> Storing hazardous substances | C50: =INDEX(Tracker!$E$5:$E$49,MATCH(Tracker!C49,Workplan!$A$6:$A$50,0)) -> COSHH assessment and review | D50: =IF(INDEX(Tracker!$L$5:$L$49,MATCH(Tracker!C49,Workplan!$A$6:$A$50,0))=0,"",INDEX(Tracker!$L$5:$L$49,MATCH(Tracker!C49,Workplan!$A$6:$A$50,0))) | E50: =D50<=EDATE(TODAY(),1) -> FALSE | F50: =IF(AND(E50=FALSE,D50<=EDATE(TODAY(),2)),TRUE,FALSE) -> FALSE | G50: =IF(AND(F50=FALSE,E50=FALSE,D50<=EDATE(TODAY(),6)),TRUE,FALSE) -> FALSE | H50: =IF(AND(E50=FALSE,F50=FALSE,G50=FALSE,D50<>""),TRUE,FALSE) -> FALSE | I50: {=IFERROR(INDEX($A$1:$A$94,SMALL(IF($E$1:$E$94,ROW($A$1:$A$94)),ROW(45:45))),"")} | J50: {=IFERROR(INDEX($A$1:$A$94,SMALL(IF($F$1:$F$94,ROW($A$1:$A$94)),ROW(45:45))),"")} | K50: {=IFERROR(INDEX($A$1:$A$94,SMALL(IF($G$1:$G$94,ROW($A$1:$A$94)),ROW(45:45))),"")} | L50: {=IFERROR(INDEX($A$1:$A$94,SMALL(IF($H$1:$H$94,ROW($A$1:$A$94)),ROW(45:45))),"")} | N50: =IFERROR(INDEX($B$6:$B$50,MATCH(I50,$A$6:$A$50,0)),"") | O50: =IFERROR(INDEX($C$6:$C$50,MATCH(I50,$A$6:$A$50,0)),"") | P50: =IFERROR(INDEX($D$6:$D$50,MATCH(I50,$A$6:$A$50,0)),"") | R50: =IFERROR(INDEX($B$6:$B$50,MATCH(J50,$A$6:$A$50,0)),"") | S50: =IFERROR(INDEX($C$6:$C$50,MATCH(J50,$A$6:$A$50,0)),"") | T50: =IFERROR(INDEX($D$6:$D$50,MATCH(J50,$A$6:$A$50,0)),"") | V50: =IFERROR(INDEX($B$6:$B$50,MATCH(K50,$A$6:$A$50,0)),"") | W50: =IFERROR(INDEX($C$6:$C$50,MATCH(K50,$A$6:$A$50,0)),"") | X50: =IFERROR(INDEX($D$6:$D$50,MATCH(K50,$A$6:$A$50,0)),"") | Z50: =IFERROR(INDEX($B$6:$B$50,MATCH(L50,$A$6:$A$50,0)),"") | AA50: =IFERROR(INDEX($C$6:$C$50,MATCH(L50,$A$6:$A$50,0)),"") | AB50: =IFERROR(INDEX($D$6:$D$50,MATCH(L50,$A$6:$A$50,0)),"")
Z53: Guidance Version Control
Z54: Name Of Document | AA54: Version | AB54: Last Review date
Z55: DfE Compliance Tracker | AA55: NASPM V2 | AB55: 45536
Z57: Copyright © 2024 NASPM All rights reserved. No part of any NASPM document may be reproduced, distributed, or transmitted in any form or by any means, including photocopying, recording, or other electronic or mechanical methods, to any individual, school, or organisation outside of the school named in the school membership agreement. Should membership terminate, no part of any NASPM document may be used, reproduced, distributed or transmitted by any individual, school, or organisation.
